BEGIN:VCALENDAR
VERSION:2.0
PRODID:-//Espo&#039;s Mexican Food - ECPv6.15.20//NONSGML v1.0//EN
CALSCALE:GREGORIAN
METHOD:PUBLISH
X-WR-CALNAME:Espo&#039;s Mexican Food
X-ORIGINAL-URL:https://espos.com
X-WR-CALDESC:Events for Espo&#039;s Mexican Food
REFRESH-INTERVAL;VALUE=DURATION:PT1H
X-Robots-Tag:noindex
X-PUBLISHED-TTL:PT1H
BEGIN:VTIMEZONE
TZID:UTC
BEGIN:STANDARD
TZOFFSETFROM:+0000
TZOFFSETTO:+0000
TZNAME:UTC
DTSTART:20240101T000000
END:STANDARD
END:VTIMEZONE
BEGIN:VEVENT
DTSTART;TZID=UTC:20251028T170000
DTEND;TZID=UTC:20251028T210000
DTSTAMP:20260421T053550
CREATED:20251017T001842Z
LAST-MODIFIED:20251017T001843Z
UID:10000033-1761670800-1761685200@espos.com
SUMMARY:PATIO BAR OPEN WITH DJ TC
DESCRIPTION:
URL:https://espos.com/eventss/dj-tc-2-2/
END:VEVENT
BEGIN:VEVENT
DTSTART;TZID=UTC:20251028T170000
DTEND;TZID=UTC:20251028T210000
DTSTAMP:20260421T053550
CREATED:20251017T001538Z
LAST-MODIFIED:20251017T001538Z
UID:10000271-1761670800-1761685200@espos.com
SUMMARY:Halloween Party
DESCRIPTION:
URL:https://espos.com/eventss/halloween-party/
END:VEVENT
BEGIN:VEVENT
DTSTART;TZID=UTC:20251014T170000
DTEND;TZID=UTC:20251014T200000
DTSTAMP:20260421T053550
CREATED:20250403T180227Z
LAST-MODIFIED:20250403T191542Z
UID:10000032-1760461200-1760472000@espos.com
SUMMARY:PATIO BAR OPEN WITH DJ TC
DESCRIPTION:
URL:https://espos.com/eventss/dj-tc-2/2025-10-14/
END:VEVENT
BEGIN:VEVENT
DTSTART;TZID=UTC:20251007T170000
DTEND;TZID=UTC:20251007T200000
DTSTAMP:20260421T053550
CREATED:20250403T180227Z
LAST-MODIFIED:20250403T191542Z
UID:10000031-1759856400-1759867200@espos.com
SUMMARY:PATIO BAR OPEN WITH DJ TC
DESCRIPTION:
URL:https://espos.com/eventss/dj-tc-2/2025-10-07/
END:VEVENT
BEGIN:VEVENT
DTSTART;TZID=UTC:20250930T170000
DTEND;TZID=UTC:20250930T200000
DTSTAMP:20260421T053550
CREATED:20250403T180227Z
LAST-MODIFIED:20250403T191542Z
UID:10000030-1759251600-1759262400@espos.com
SUMMARY:PATIO BAR OPEN WITH DJ TC
DESCRIPTION:
URL:https://espos.com/eventss/dj-tc-2/2025-09-30/
END:VEVENT
BEGIN:VEVENT
DTSTART;TZID=UTC:20250923T170000
DTEND;TZID=UTC:20250923T200000
DTSTAMP:20260421T053550
CREATED:20250403T180227Z
LAST-MODIFIED:20250403T191542Z
UID:10000029-1758646800-1758657600@espos.com
SUMMARY:PATIO BAR OPEN WITH DJ TC
DESCRIPTION:
URL:https://espos.com/eventss/dj-tc-2/2025-09-23/
END:VEVENT
BEGIN:VEVENT
DTSTART;TZID=UTC:20250916T170000
DTEND;TZID=UTC:20250916T200000
DTSTAMP:20260421T053550
CREATED:20250403T180227Z
LAST-MODIFIED:20250403T191542Z
UID:10000028-1758042000-1758052800@espos.com
SUMMARY:PATIO BAR OPEN WITH DJ TC
DESCRIPTION:
URL:https://espos.com/eventss/dj-tc-2/2025-09-16/
END:VEVENT
BEGIN:VEVENT
DTSTART;TZID=UTC:20250909T170000
DTEND;TZID=UTC:20250909T200000
DTSTAMP:20260421T053550
CREATED:20250403T180227Z
LAST-MODIFIED:20250403T191542Z
UID:10000027-1757437200-1757448000@espos.com
SUMMARY:PATIO BAR OPEN WITH DJ TC
DESCRIPTION:
URL:https://espos.com/eventss/dj-tc-2/2025-09-09/
END:VEVENT
BEGIN:VEVENT
DTSTART;TZID=UTC:20250902T170000
DTEND;TZID=UTC:20250902T200000
DTSTAMP:20260421T053550
CREATED:20250403T180227Z
LAST-MODIFIED:20250403T191542Z
UID:10000026-1756832400-1756843200@espos.com
SUMMARY:PATIO BAR OPEN WITH DJ TC
DESCRIPTION:
URL:https://espos.com/eventss/dj-tc-2/2025-09-02/
END:VEVENT
BEGIN:VEVENT
DTSTART;TZID=UTC:20250826T170000
DTEND;TZID=UTC:20250826T200000
DTSTAMP:20260421T053550
CREATED:20250403T180227Z
LAST-MODIFIED:20250403T191542Z
UID:10000025-1756227600-1756238400@espos.com
SUMMARY:PATIO BAR OPEN WITH DJ TC
DESCRIPTION:
URL:https://espos.com/eventss/dj-tc-2/2025-08-26/
END:VEVENT
BEGIN:VEVENT
DTSTART;TZID=UTC:20250819T170000
DTEND;TZID=UTC:20250819T200000
DTSTAMP:20260421T053550
CREATED:20250403T180227Z
LAST-MODIFIED:20250403T191542Z
UID:10000024-1755622800-1755633600@espos.com
SUMMARY:PATIO BAR OPEN WITH DJ TC
DESCRIPTION:
URL:https://espos.com/eventss/dj-tc-2/2025-08-19/
END:VEVENT
BEGIN:VEVENT
DTSTART;TZID=UTC:20250812T170000
DTEND;TZID=UTC:20250812T200000
DTSTAMP:20260421T053550
CREATED:20250403T180227Z
LAST-MODIFIED:20250403T191542Z
UID:10000023-1755018000-1755028800@espos.com
SUMMARY:PATIO BAR OPEN WITH DJ TC
DESCRIPTION:
URL:https://espos.com/eventss/dj-tc-2/2025-08-12/
END:VEVENT
BEGIN:VEVENT
DTSTART;TZID=UTC:20250805T170000
DTEND;TZID=UTC:20250805T200000
DTSTAMP:20260421T053550
CREATED:20250403T180227Z
LAST-MODIFIED:20250403T191542Z
UID:10000022-1754413200-1754424000@espos.com
SUMMARY:PATIO BAR OPEN WITH DJ TC
DESCRIPTION:
URL:https://espos.com/eventss/dj-tc-2/2025-08-05/
END:VEVENT
BEGIN:VEVENT
DTSTART;TZID=UTC:20250729T170000
DTEND;TZID=UTC:20250729T200000
DTSTAMP:20260421T053550
CREATED:20250403T180227Z
LAST-MODIFIED:20250403T191542Z
UID:10000021-1753808400-1753819200@espos.com
SUMMARY:PATIO BAR OPEN WITH DJ TC
DESCRIPTION:
URL:https://espos.com/eventss/dj-tc-2/2025-07-29/
END:VEVENT
BEGIN:VEVENT
DTSTART;TZID=UTC:20250722T170000
DTEND;TZID=UTC:20250722T200000
DTSTAMP:20260421T053550
CREATED:20250403T180227Z
LAST-MODIFIED:20250403T191542Z
UID:10000020-1753203600-1753214400@espos.com
SUMMARY:PATIO BAR OPEN WITH DJ TC
DESCRIPTION:
URL:https://espos.com/eventss/dj-tc-2/2025-07-22/
END:VEVENT
BEGIN:VEVENT
DTSTART;TZID=UTC:20250715T170000
DTEND;TZID=UTC:20250715T200000
DTSTAMP:20260421T053550
CREATED:20250403T180227Z
LAST-MODIFIED:20250403T191542Z
UID:10000019-1752598800-1752609600@espos.com
SUMMARY:PATIO BAR OPEN WITH DJ TC
DESCRIPTION:
URL:https://espos.com/eventss/dj-tc-2/2025-07-15/
END:VEVENT
BEGIN:VEVENT
DTSTART;TZID=UTC:20250708T170000
DTEND;TZID=UTC:20250708T200000
DTSTAMP:20260421T053550
CREATED:20250403T180227Z
LAST-MODIFIED:20250403T191542Z
UID:10000018-1751994000-1752004800@espos.com
SUMMARY:PATIO BAR OPEN WITH DJ TC
DESCRIPTION:
URL:https://espos.com/eventss/dj-tc-2/2025-07-08/
END:VEVENT
BEGIN:VEVENT
DTSTART;TZID=UTC:20250701T170000
DTEND;TZID=UTC:20250701T200000
DTSTAMP:20260421T053550
CREATED:20250403T180227Z
LAST-MODIFIED:20250403T191542Z
UID:10000017-1751389200-1751400000@espos.com
SUMMARY:PATIO BAR OPEN WITH DJ TC
DESCRIPTION:
URL:https://espos.com/eventss/dj-tc-2/2025-07-01/
END:VEVENT
BEGIN:VEVENT
DTSTART;TZID=UTC:20250624T170000
DTEND;TZID=UTC:20250624T200000
DTSTAMP:20260421T053550
CREATED:20250403T180227Z
LAST-MODIFIED:20250403T191542Z
UID:10000016-1750784400-1750795200@espos.com
SUMMARY:PATIO BAR OPEN WITH DJ TC
DESCRIPTION:
URL:https://espos.com/eventss/dj-tc-2/2025-06-24/
END:VEVENT
BEGIN:VEVENT
DTSTART;TZID=UTC:20250617T170000
DTEND;TZID=UTC:20250617T200000
DTSTAMP:20260421T053550
CREATED:20250403T180227Z
LAST-MODIFIED:20250403T191542Z
UID:10000015-1750179600-1750190400@espos.com
SUMMARY:PATIO BAR OPEN WITH DJ TC
DESCRIPTION:
URL:https://espos.com/eventss/dj-tc-2/2025-06-17/
END:VEVENT
BEGIN:VEVENT
DTSTART;TZID=UTC:20250610T170000
DTEND;TZID=UTC:20250610T200000
DTSTAMP:20260421T053550
CREATED:20250403T180227Z
LAST-MODIFIED:20250403T191542Z
UID:10000014-1749574800-1749585600@espos.com
SUMMARY:PATIO BAR OPEN WITH DJ TC
DESCRIPTION:
URL:https://espos.com/eventss/dj-tc-2/2025-06-10/
END:VEVENT
BEGIN:VEVENT
DTSTART;TZID=UTC:20250603T170000
DTEND;TZID=UTC:20250603T200000
DTSTAMP:20260421T053550
CREATED:20250403T180227Z
LAST-MODIFIED:20250403T191542Z
UID:10000013-1748970000-1748980800@espos.com
SUMMARY:PATIO BAR OPEN WITH DJ TC
DESCRIPTION:
URL:https://espos.com/eventss/dj-tc-2/2025-06-03/
END:VEVENT
BEGIN:VEVENT
DTSTART;TZID=UTC:20250527T170000
DTEND;TZID=UTC:20250527T200000
DTSTAMP:20260421T053550
CREATED:20250403T180227Z
LAST-MODIFIED:20250403T191542Z
UID:10000012-1748365200-1748376000@espos.com
SUMMARY:PATIO BAR OPEN WITH DJ TC
DESCRIPTION:
URL:https://espos.com/eventss/dj-tc-2/2025-05-27/
END:VEVENT
BEGIN:VEVENT
DTSTART;TZID=UTC:20250526T100000
DTEND;TZID=UTC:20250526T210000
DTSTAMP:20260421T053550
CREATED:20250519T224109Z
LAST-MODIFIED:20250520T225926Z
UID:10000269-1748253600-1748293200@espos.com
SUMMARY:OPEN Normal Hours
DESCRIPTION:
URL:https://espos.com/eventss/open-normal-hours/
END:VEVENT
BEGIN:VEVENT
DTSTART;TZID=UTC:20250520T170000
DTEND;TZID=UTC:20250520T200000
DTSTAMP:20260421T053550
CREATED:20250403T180227Z
LAST-MODIFIED:20250403T191542Z
UID:10000011-1747760400-1747771200@espos.com
SUMMARY:PATIO BAR OPEN WITH DJ TC
DESCRIPTION:
URL:https://espos.com/eventss/dj-tc-2/2025-05-20/
END:VEVENT
BEGIN:VEVENT
DTSTART;TZID=UTC:20250513T170000
DTEND;TZID=UTC:20250513T200000
DTSTAMP:20260421T053550
CREATED:20250403T180227Z
LAST-MODIFIED:20250403T191542Z
UID:10000010-1747155600-1747166400@espos.com
SUMMARY:PATIO BAR OPEN WITH DJ TC
DESCRIPTION:
URL:https://espos.com/eventss/dj-tc-2/2025-05-13/
END:VEVENT
BEGIN:VEVENT
DTSTART;TZID=UTC:20250511T100000
DTEND;TZID=UTC:20250511T220000
DTSTAMP:20260421T053550
CREATED:20250507T214929Z
LAST-MODIFIED:20250507T215331Z
UID:10000268-1746957600-1747000800@espos.com
SUMMARY:CLOSED FOR MOTHER'S DAY
DESCRIPTION:
URL:https://espos.com/eventss/mothers-day-closed/
END:VEVENT
BEGIN:VEVENT
DTSTART;TZID=UTC:20250505T120000
DTEND;TZID=UTC:20250505T210000
DTSTAMP:20260421T053550
CREATED:20250403T191320Z
LAST-MODIFIED:20250403T191320Z
UID:10000267-1746446400-1746478800@espos.com
SUMMARY:CINCO DE MAYO CELEBRATION
DESCRIPTION:
URL:https://espos.com/eventss/cinco-de-mayo-celebration/
END:VEVENT
BEGIN:VEVENT
DTSTART;TZID=UTC:20250429T170000
DTEND;TZID=UTC:20250429T200000
DTSTAMP:20260421T053550
CREATED:20250403T180227Z
LAST-MODIFIED:20250403T191542Z
UID:10000008-1745946000-1745956800@espos.com
SUMMARY:PATIO BAR OPEN WITH DJ TC
DESCRIPTION:
URL:https://espos.com/eventss/dj-tc-2/2025-04-29/
END:VEVENT
BEGIN:VEVENT
DTSTART;TZID=UTC:20250422T170000
DTEND;TZID=UTC:20250422T200000
DTSTAMP:20260421T053550
CREATED:20250403T180227Z
LAST-MODIFIED:20250403T191542Z
UID:10000007-1745341200-1745352000@espos.com
SUMMARY:PATIO BAR OPEN WITH DJ TC
DESCRIPTION:
URL:https://espos.com/eventss/dj-tc-2/2025-04-22/
END:VEVENT
END:VCALENDAR