BEGIN:VCALENDAR
VERSION:2.0
PRODID:-//Espo&#039;s Mexican Food - ECPv6.15.20//NONSGML v1.0//EN
CALSCALE:GREGORIAN
METHOD:PUBLISH
X-ORIGINAL-URL:https://espos.com
X-WR-CALDESC:Events for Espo&#039;s Mexican Food
REFRESH-INTERVAL;VALUE=DURATION:PT1H
X-Robots-Tag:noindex
X-PUBLISHED-TTL:PT1H
BEGIN:VTIMEZONE
TZID:UTC
BEGIN:STANDARD
TZOFFSETFROM:+0000
TZOFFSETTO:+0000
TZNAME:UTC
DTSTART:20250101T000000
END:STANDARD
END:VTIMEZONE
BEGIN:VEVENT
DTSTART;TZID=UTC:20260113T170000
DTEND;TZID=UTC:20260113T200000
DTSTAMP:20260421T002358
CREATED:20250403T180227Z
LAST-MODIFIED:20250403T191542Z
UID:10000045-1768323600-1768334400@espos.com
SUMMARY:PATIO BAR OPEN WITH DJ TC
DESCRIPTION:
URL:https://espos.com/eventss/dj-tc-2/2026-01-13/
END:VEVENT
BEGIN:VEVENT
DTSTART;TZID=UTC:20260120T170000
DTEND;TZID=UTC:20260120T200000
DTSTAMP:20260421T002358
CREATED:20250403T180227Z
LAST-MODIFIED:20250403T191542Z
UID:10000046-1768928400-1768939200@espos.com
SUMMARY:PATIO BAR OPEN WITH DJ TC
DESCRIPTION:
URL:https://espos.com/eventss/dj-tc-2/2026-01-20/
END:VEVENT
BEGIN:VEVENT
DTSTART;TZID=UTC:20260127T170000
DTEND;TZID=UTC:20260127T200000
DTSTAMP:20260421T002358
CREATED:20250403T180227Z
LAST-MODIFIED:20250403T191542Z
UID:10000047-1769533200-1769544000@espos.com
SUMMARY:PATIO BAR OPEN WITH DJ TC
DESCRIPTION:
URL:https://espos.com/eventss/dj-tc-2/2026-01-27/
END:VEVENT
BEGIN:VEVENT
DTSTART;TZID=UTC:20260203T170000
DTEND;TZID=UTC:20260203T200000
DTSTAMP:20260421T002358
CREATED:20250403T180227Z
LAST-MODIFIED:20250403T191542Z
UID:10000048-1770138000-1770148800@espos.com
SUMMARY:PATIO BAR OPEN WITH DJ TC
DESCRIPTION:
URL:https://espos.com/eventss/dj-tc-2/2026-02-03/
END:VEVENT
BEGIN:VEVENT
DTSTART;TZID=UTC:20260210T170000
DTEND;TZID=UTC:20260210T200000
DTSTAMP:20260421T002358
CREATED:20250403T180227Z
LAST-MODIFIED:20250403T191542Z
UID:10000049-1770742800-1770753600@espos.com
SUMMARY:PATIO BAR OPEN WITH DJ TC
DESCRIPTION:
URL:https://espos.com/eventss/dj-tc-2/2026-02-10/
END:VEVENT
BEGIN:VEVENT
DTSTART;TZID=UTC:20260217T170000
DTEND;TZID=UTC:20260217T200000
DTSTAMP:20260421T002358
CREATED:20250403T180227Z
LAST-MODIFIED:20250403T191542Z
UID:10000050-1771347600-1771358400@espos.com
SUMMARY:PATIO BAR OPEN WITH DJ TC
DESCRIPTION:
URL:https://espos.com/eventss/dj-tc-2/2026-02-17/
END:VEVENT
BEGIN:VEVENT
DTSTART;TZID=UTC:20260224T170000
DTEND;TZID=UTC:20260224T200000
DTSTAMP:20260421T002358
CREATED:20250403T180227Z
LAST-MODIFIED:20250403T191542Z
UID:10000051-1771952400-1771963200@espos.com
SUMMARY:PATIO BAR OPEN WITH DJ TC
DESCRIPTION:
URL:https://espos.com/eventss/dj-tc-2/2026-02-24/
END:VEVENT
BEGIN:VEVENT
DTSTART;TZID=UTC:20260303T170000
DTEND;TZID=UTC:20260303T200000
DTSTAMP:20260421T002358
CREATED:20250403T180227Z
LAST-MODIFIED:20250403T191542Z
UID:10000052-1772557200-1772568000@espos.com
SUMMARY:PATIO BAR OPEN WITH DJ TC
DESCRIPTION:
URL:https://espos.com/eventss/dj-tc-2/2026-03-03/
END:VEVENT
BEGIN:VEVENT
DTSTART;TZID=UTC:20260310T170000
DTEND;TZID=UTC:20260310T200000
DTSTAMP:20260421T002358
CREATED:20250403T180227Z
LAST-MODIFIED:20250403T191542Z
UID:10000053-1773162000-1773172800@espos.com
SUMMARY:PATIO BAR OPEN WITH DJ TC
DESCRIPTION:
URL:https://espos.com/eventss/dj-tc-2/2026-03-10/
END:VEVENT
BEGIN:VEVENT
DTSTART;TZID=UTC:20260317T170000
DTEND;TZID=UTC:20260317T200000
DTSTAMP:20260421T002358
CREATED:20250403T180227Z
LAST-MODIFIED:20250403T191542Z
UID:10000054-1773766800-1773777600@espos.com
SUMMARY:PATIO BAR OPEN WITH DJ TC
DESCRIPTION:
URL:https://espos.com/eventss/dj-tc-2/2026-03-17/
END:VEVENT
BEGIN:VEVENT
DTSTART;TZID=UTC:20260324T170000
DTEND;TZID=UTC:20260324T200000
DTSTAMP:20260421T002358
CREATED:20250403T180227Z
LAST-MODIFIED:20250403T191542Z
UID:10000055-1774371600-1774382400@espos.com
SUMMARY:PATIO BAR OPEN WITH DJ TC
DESCRIPTION:
URL:https://espos.com/eventss/dj-tc-2/2026-03-24/
END:VEVENT
BEGIN:VEVENT
DTSTART;TZID=UTC:20260331T170000
DTEND;TZID=UTC:20260331T200000
DTSTAMP:20260421T002358
CREATED:20250403T180227Z
LAST-MODIFIED:20250403T191542Z
UID:10000056-1774976400-1774987200@espos.com
SUMMARY:PATIO BAR OPEN WITH DJ TC
DESCRIPTION:
URL:https://espos.com/eventss/dj-tc-2/2026-03-31/
END:VEVENT
BEGIN:VEVENT
DTSTART;TZID=UTC:20260407T170000
DTEND;TZID=UTC:20260407T200000
DTSTAMP:20260421T002358
CREATED:20250403T180227Z
LAST-MODIFIED:20250403T191542Z
UID:10000057-1775581200-1775592000@espos.com
SUMMARY:PATIO BAR OPEN WITH DJ TC
DESCRIPTION:
URL:https://espos.com/eventss/dj-tc-2/2026-04-07/
END:VEVENT
BEGIN:VEVENT
DTSTART;TZID=UTC:20260414T170000
DTEND;TZID=UTC:20260414T200000
DTSTAMP:20260421T002358
CREATED:20250403T180227Z
LAST-MODIFIED:20250403T191542Z
UID:10000058-1776186000-1776196800@espos.com
SUMMARY:PATIO BAR OPEN WITH DJ TC
DESCRIPTION:
URL:https://espos.com/eventss/dj-tc-2/2026-04-14/
END:VEVENT
BEGIN:VEVENT
DTSTART;TZID=UTC:20260421T170000
DTEND;TZID=UTC:20260421T200000
DTSTAMP:20260421T002358
CREATED:20250403T180227Z
LAST-MODIFIED:20250403T191542Z
UID:10000059-1776790800-1776801600@espos.com
SUMMARY:PATIO BAR OPEN WITH DJ TC
DESCRIPTION:
URL:https://espos.com/eventss/dj-tc-2/2026-04-21/
END:VEVENT
BEGIN:VEVENT
DTSTART;TZID=UTC:20260428T170000
DTEND;TZID=UTC:20260428T200000
DTSTAMP:20260421T002358
CREATED:20250403T180227Z
LAST-MODIFIED:20250403T191542Z
UID:10000060-1777395600-1777406400@espos.com
SUMMARY:PATIO BAR OPEN WITH DJ TC
DESCRIPTION:
URL:https://espos.com/eventss/dj-tc-2/2026-04-28/
END:VEVENT
BEGIN:VEVENT
DTSTART;TZID=UTC:20260505T170000
DTEND;TZID=UTC:20260505T200000
DTSTAMP:20260421T002358
CREATED:20250403T180227Z
LAST-MODIFIED:20250403T191542Z
UID:10000061-1778000400-1778011200@espos.com
SUMMARY:PATIO BAR OPEN WITH DJ TC
DESCRIPTION:
URL:https://espos.com/eventss/dj-tc-2/2026-05-05/
END:VEVENT
BEGIN:VEVENT
DTSTART;TZID=UTC:20260512T170000
DTEND;TZID=UTC:20260512T200000
DTSTAMP:20260421T002358
CREATED:20250403T180227Z
LAST-MODIFIED:20250403T191542Z
UID:10000062-1778605200-1778616000@espos.com
SUMMARY:PATIO BAR OPEN WITH DJ TC
DESCRIPTION:
URL:https://espos.com/eventss/dj-tc-2/2026-05-12/
END:VEVENT
BEGIN:VEVENT
DTSTART;TZID=UTC:20260519T170000
DTEND;TZID=UTC:20260519T200000
DTSTAMP:20260421T002358
CREATED:20250403T180227Z
LAST-MODIFIED:20250403T191542Z
UID:10000063-1779210000-1779220800@espos.com
SUMMARY:PATIO BAR OPEN WITH DJ TC
DESCRIPTION:
URL:https://espos.com/eventss/dj-tc-2/2026-05-19/
END:VEVENT
BEGIN:VEVENT
DTSTART;TZID=UTC:20260526T170000
DTEND;TZID=UTC:20260526T200000
DTSTAMP:20260421T002358
CREATED:20250403T180227Z
LAST-MODIFIED:20250403T191542Z
UID:10000064-1779814800-1779825600@espos.com
SUMMARY:PATIO BAR OPEN WITH DJ TC
DESCRIPTION:
URL:https://espos.com/eventss/dj-tc-2/2026-05-26/
END:VEVENT
BEGIN:VEVENT
DTSTART;TZID=UTC:20260602T170000
DTEND;TZID=UTC:20260602T200000
DTSTAMP:20260421T002358
CREATED:20250403T180227Z
LAST-MODIFIED:20250403T191542Z
UID:10000065-1780419600-1780430400@espos.com
SUMMARY:PATIO BAR OPEN WITH DJ TC
DESCRIPTION:
URL:https://espos.com/eventss/dj-tc-2/2026-06-02/
END:VEVENT
BEGIN:VEVENT
DTSTART;TZID=UTC:20260609T170000
DTEND;TZID=UTC:20260609T200000
DTSTAMP:20260421T002358
CREATED:20250403T180227Z
LAST-MODIFIED:20250403T191542Z
UID:10000066-1781024400-1781035200@espos.com
SUMMARY:PATIO BAR OPEN WITH DJ TC
DESCRIPTION:
URL:https://espos.com/eventss/dj-tc-2/2026-06-09/
END:VEVENT
BEGIN:VEVENT
DTSTART;TZID=UTC:20260616T170000
DTEND;TZID=UTC:20260616T200000
DTSTAMP:20260421T002358
CREATED:20250403T180227Z
LAST-MODIFIED:20250403T191542Z
UID:10000067-1781629200-1781640000@espos.com
SUMMARY:PATIO BAR OPEN WITH DJ TC
DESCRIPTION:
URL:https://espos.com/eventss/dj-tc-2/2026-06-16/
END:VEVENT
BEGIN:VEVENT
DTSTART;TZID=UTC:20260623T170000
DTEND;TZID=UTC:20260623T200000
DTSTAMP:20260421T002358
CREATED:20250403T180227Z
LAST-MODIFIED:20250403T191542Z
UID:10000068-1782234000-1782244800@espos.com
SUMMARY:PATIO BAR OPEN WITH DJ TC
DESCRIPTION:
URL:https://espos.com/eventss/dj-tc-2/2026-06-23/
END:VEVENT
BEGIN:VEVENT
DTSTART;TZID=UTC:20260630T170000
DTEND;TZID=UTC:20260630T200000
DTSTAMP:20260421T002358
CREATED:20250403T180227Z
LAST-MODIFIED:20250403T191542Z
UID:10000069-1782838800-1782849600@espos.com
SUMMARY:PATIO BAR OPEN WITH DJ TC
DESCRIPTION:
URL:https://espos.com/eventss/dj-tc-2/2026-06-30/
END:VEVENT
BEGIN:VEVENT
DTSTART;TZID=UTC:20260707T170000
DTEND;TZID=UTC:20260707T200000
DTSTAMP:20260421T002358
CREATED:20250403T180227Z
LAST-MODIFIED:20250403T191542Z
UID:10000070-1783443600-1783454400@espos.com
SUMMARY:PATIO BAR OPEN WITH DJ TC
DESCRIPTION:
URL:https://espos.com/eventss/dj-tc-2/2026-07-07/
END:VEVENT
BEGIN:VEVENT
DTSTART;TZID=UTC:20260714T170000
DTEND;TZID=UTC:20260714T200000
DTSTAMP:20260421T002358
CREATED:20250403T180227Z
LAST-MODIFIED:20250403T191542Z
UID:10000071-1784048400-1784059200@espos.com
SUMMARY:PATIO BAR OPEN WITH DJ TC
DESCRIPTION:
URL:https://espos.com/eventss/dj-tc-2/2026-07-14/
END:VEVENT
BEGIN:VEVENT
DTSTART;TZID=UTC:20260721T170000
DTEND;TZID=UTC:20260721T200000
DTSTAMP:20260421T002358
CREATED:20250403T180227Z
LAST-MODIFIED:20250403T191542Z
UID:10000072-1784653200-1784664000@espos.com
SUMMARY:PATIO BAR OPEN WITH DJ TC
DESCRIPTION:
URL:https://espos.com/eventss/dj-tc-2/2026-07-21/
END:VEVENT
BEGIN:VEVENT
DTSTART;TZID=UTC:20260728T170000
DTEND;TZID=UTC:20260728T200000
DTSTAMP:20260421T002358
CREATED:20250403T180227Z
LAST-MODIFIED:20250403T191542Z
UID:10000073-1785258000-1785268800@espos.com
SUMMARY:PATIO BAR OPEN WITH DJ TC
DESCRIPTION:
URL:https://espos.com/eventss/dj-tc-2/2026-07-28/
END:VEVENT
BEGIN:VEVENT
DTSTART;TZID=UTC:20260804T170000
DTEND;TZID=UTC:20260804T200000
DTSTAMP:20260421T002358
CREATED:20250403T180227Z
LAST-MODIFIED:20250403T191542Z
UID:10000074-1785862800-1785873600@espos.com
SUMMARY:PATIO BAR OPEN WITH DJ TC
DESCRIPTION:
URL:https://espos.com/eventss/dj-tc-2/2026-08-04/
END:VEVENT
END:VCALENDAR