BEGIN:VCALENDAR
VERSION:2.0
PRODID:-//Espo&#039;s Mexican Food - ECPv6.15.20//NONSGML v1.0//EN
CALSCALE:GREGORIAN
METHOD:PUBLISH
X-WR-CALNAME:Espo&#039;s Mexican Food
X-ORIGINAL-URL:https://espos.com
X-WR-CALDESC:Events for Espo&#039;s Mexican Food
REFRESH-INTERVAL;VALUE=DURATION:PT1H
X-Robots-Tag:noindex
X-PUBLISHED-TTL:PT1H
BEGIN:VTIMEZONE
TZID:UTC
BEGIN:STANDARD
TZOFFSETFROM:+0000
TZOFFSETTO:+0000
TZNAME:UTC
DTSTART:20280101T000000
END:STANDARD
END:VTIMEZONE
BEGIN:VEVENT
DTSTART;TZID=UTC:20290619T170000
DTEND;TZID=UTC:20290619T200000
DTSTAMP:20260422T013752
CREATED:20250403T180227Z
LAST-MODIFIED:20250403T191542Z
UID:10000224-1876582800-1876593600@espos.com
SUMMARY:PATIO BAR OPEN WITH DJ TC
DESCRIPTION:
URL:https://espos.com/eventss/dj-tc-2/2029-06-19/
END:VEVENT
BEGIN:VEVENT
DTSTART;TZID=UTC:20290626T170000
DTEND;TZID=UTC:20290626T200000
DTSTAMP:20260422T013752
CREATED:20250403T180227Z
LAST-MODIFIED:20250403T191542Z
UID:10000225-1877187600-1877198400@espos.com
SUMMARY:PATIO BAR OPEN WITH DJ TC
DESCRIPTION:
URL:https://espos.com/eventss/dj-tc-2/2029-06-26/
END:VEVENT
BEGIN:VEVENT
DTSTART;TZID=UTC:20290703T170000
DTEND;TZID=UTC:20290703T200000
DTSTAMP:20260422T013752
CREATED:20250403T180227Z
LAST-MODIFIED:20250403T191542Z
UID:10000226-1877792400-1877803200@espos.com
SUMMARY:PATIO BAR OPEN WITH DJ TC
DESCRIPTION:
URL:https://espos.com/eventss/dj-tc-2/2029-07-03/
END:VEVENT
BEGIN:VEVENT
DTSTART;TZID=UTC:20290710T170000
DTEND;TZID=UTC:20290710T200000
DTSTAMP:20260422T013752
CREATED:20250403T180227Z
LAST-MODIFIED:20250403T191542Z
UID:10000227-1878397200-1878408000@espos.com
SUMMARY:PATIO BAR OPEN WITH DJ TC
DESCRIPTION:
URL:https://espos.com/eventss/dj-tc-2/2029-07-10/
END:VEVENT
BEGIN:VEVENT
DTSTART;TZID=UTC:20290717T170000
DTEND;TZID=UTC:20290717T200000
DTSTAMP:20260422T013752
CREATED:20250403T180227Z
LAST-MODIFIED:20250403T191542Z
UID:10000228-1879002000-1879012800@espos.com
SUMMARY:PATIO BAR OPEN WITH DJ TC
DESCRIPTION:
URL:https://espos.com/eventss/dj-tc-2/2029-07-17/
END:VEVENT
BEGIN:VEVENT
DTSTART;TZID=UTC:20290724T170000
DTEND;TZID=UTC:20290724T200000
DTSTAMP:20260422T013752
CREATED:20250403T180227Z
LAST-MODIFIED:20250403T191542Z
UID:10000229-1879606800-1879617600@espos.com
SUMMARY:PATIO BAR OPEN WITH DJ TC
DESCRIPTION:
URL:https://espos.com/eventss/dj-tc-2/2029-07-24/
END:VEVENT
BEGIN:VEVENT
DTSTART;TZID=UTC:20290731T170000
DTEND;TZID=UTC:20290731T200000
DTSTAMP:20260422T013752
CREATED:20250403T180227Z
LAST-MODIFIED:20250403T191542Z
UID:10000230-1880211600-1880222400@espos.com
SUMMARY:PATIO BAR OPEN WITH DJ TC
DESCRIPTION:
URL:https://espos.com/eventss/dj-tc-2/2029-07-31/
END:VEVENT
BEGIN:VEVENT
DTSTART;TZID=UTC:20290807T170000
DTEND;TZID=UTC:20290807T200000
DTSTAMP:20260422T013752
CREATED:20250403T180227Z
LAST-MODIFIED:20250403T191542Z
UID:10000231-1880816400-1880827200@espos.com
SUMMARY:PATIO BAR OPEN WITH DJ TC
DESCRIPTION:
URL:https://espos.com/eventss/dj-tc-2/2029-08-07/
END:VEVENT
BEGIN:VEVENT
DTSTART;TZID=UTC:20290814T170000
DTEND;TZID=UTC:20290814T200000
DTSTAMP:20260422T013752
CREATED:20250403T180227Z
LAST-MODIFIED:20250403T191542Z
UID:10000232-1881421200-1881432000@espos.com
SUMMARY:PATIO BAR OPEN WITH DJ TC
DESCRIPTION:
URL:https://espos.com/eventss/dj-tc-2/2029-08-14/
END:VEVENT
BEGIN:VEVENT
DTSTART;TZID=UTC:20290821T170000
DTEND;TZID=UTC:20290821T200000
DTSTAMP:20260422T013752
CREATED:20250403T180227Z
LAST-MODIFIED:20250403T191542Z
UID:10000233-1882026000-1882036800@espos.com
SUMMARY:PATIO BAR OPEN WITH DJ TC
DESCRIPTION:
URL:https://espos.com/eventss/dj-tc-2/2029-08-21/
END:VEVENT
BEGIN:VEVENT
DTSTART;TZID=UTC:20290828T170000
DTEND;TZID=UTC:20290828T200000
DTSTAMP:20260422T013752
CREATED:20250403T180227Z
LAST-MODIFIED:20250403T191542Z
UID:10000234-1882630800-1882641600@espos.com
SUMMARY:PATIO BAR OPEN WITH DJ TC
DESCRIPTION:
URL:https://espos.com/eventss/dj-tc-2/2029-08-28/
END:VEVENT
BEGIN:VEVENT
DTSTART;TZID=UTC:20290904T170000
DTEND;TZID=UTC:20290904T200000
DTSTAMP:20260422T013752
CREATED:20250403T180227Z
LAST-MODIFIED:20250403T191542Z
UID:10000235-1883235600-1883246400@espos.com
SUMMARY:PATIO BAR OPEN WITH DJ TC
DESCRIPTION:
URL:https://espos.com/eventss/dj-tc-2/2029-09-04/
END:VEVENT
BEGIN:VEVENT
DTSTART;TZID=UTC:20290911T170000
DTEND;TZID=UTC:20290911T200000
DTSTAMP:20260422T013752
CREATED:20250403T180227Z
LAST-MODIFIED:20250403T191542Z
UID:10000236-1883840400-1883851200@espos.com
SUMMARY:PATIO BAR OPEN WITH DJ TC
DESCRIPTION:
URL:https://espos.com/eventss/dj-tc-2/2029-09-11/
END:VEVENT
BEGIN:VEVENT
DTSTART;TZID=UTC:20290918T170000
DTEND;TZID=UTC:20290918T200000
DTSTAMP:20260422T013752
CREATED:20250403T180227Z
LAST-MODIFIED:20250403T191542Z
UID:10000237-1884445200-1884456000@espos.com
SUMMARY:PATIO BAR OPEN WITH DJ TC
DESCRIPTION:
URL:https://espos.com/eventss/dj-tc-2/2029-09-18/
END:VEVENT
BEGIN:VEVENT
DTSTART;TZID=UTC:20290925T170000
DTEND;TZID=UTC:20290925T200000
DTSTAMP:20260422T013752
CREATED:20250403T180227Z
LAST-MODIFIED:20250403T191542Z
UID:10000238-1885050000-1885060800@espos.com
SUMMARY:PATIO BAR OPEN WITH DJ TC
DESCRIPTION:
URL:https://espos.com/eventss/dj-tc-2/2029-09-25/
END:VEVENT
BEGIN:VEVENT
DTSTART;TZID=UTC:20291002T170000
DTEND;TZID=UTC:20291002T200000
DTSTAMP:20260422T013752
CREATED:20250403T180227Z
LAST-MODIFIED:20250403T191542Z
UID:10000239-1885654800-1885665600@espos.com
SUMMARY:PATIO BAR OPEN WITH DJ TC
DESCRIPTION:
URL:https://espos.com/eventss/dj-tc-2/2029-10-02/
END:VEVENT
BEGIN:VEVENT
DTSTART;TZID=UTC:20291009T170000
DTEND;TZID=UTC:20291009T200000
DTSTAMP:20260422T013753
CREATED:20250403T180227Z
LAST-MODIFIED:20250403T191542Z
UID:10000240-1886259600-1886270400@espos.com
SUMMARY:PATIO BAR OPEN WITH DJ TC
DESCRIPTION:
URL:https://espos.com/eventss/dj-tc-2/2029-10-09/
END:VEVENT
BEGIN:VEVENT
DTSTART;TZID=UTC:20291016T170000
DTEND;TZID=UTC:20291016T200000
DTSTAMP:20260422T013753
CREATED:20250403T180227Z
LAST-MODIFIED:20250403T191542Z
UID:10000241-1886864400-1886875200@espos.com
SUMMARY:PATIO BAR OPEN WITH DJ TC
DESCRIPTION:
URL:https://espos.com/eventss/dj-tc-2/2029-10-16/
END:VEVENT
BEGIN:VEVENT
DTSTART;TZID=UTC:20291023T170000
DTEND;TZID=UTC:20291023T200000
DTSTAMP:20260422T013753
CREATED:20250403T180227Z
LAST-MODIFIED:20250403T191542Z
UID:10000242-1887469200-1887480000@espos.com
SUMMARY:PATIO BAR OPEN WITH DJ TC
DESCRIPTION:
URL:https://espos.com/eventss/dj-tc-2/2029-10-23/
END:VEVENT
BEGIN:VEVENT
DTSTART;TZID=UTC:20291030T170000
DTEND;TZID=UTC:20291030T200000
DTSTAMP:20260422T013753
CREATED:20250403T180227Z
LAST-MODIFIED:20250403T191542Z
UID:10000243-1888074000-1888084800@espos.com
SUMMARY:PATIO BAR OPEN WITH DJ TC
DESCRIPTION:
URL:https://espos.com/eventss/dj-tc-2/2029-10-30/
END:VEVENT
BEGIN:VEVENT
DTSTART;TZID=UTC:20291106T170000
DTEND;TZID=UTC:20291106T200000
DTSTAMP:20260422T013753
CREATED:20250403T180227Z
LAST-MODIFIED:20250403T191542Z
UID:10000244-1888678800-1888689600@espos.com
SUMMARY:PATIO BAR OPEN WITH DJ TC
DESCRIPTION:
URL:https://espos.com/eventss/dj-tc-2/2029-11-06/
END:VEVENT
BEGIN:VEVENT
DTSTART;TZID=UTC:20291113T170000
DTEND;TZID=UTC:20291113T200000
DTSTAMP:20260422T013753
CREATED:20250403T180227Z
LAST-MODIFIED:20250403T191542Z
UID:10000245-1889283600-1889294400@espos.com
SUMMARY:PATIO BAR OPEN WITH DJ TC
DESCRIPTION:
URL:https://espos.com/eventss/dj-tc-2/2029-11-13/
END:VEVENT
BEGIN:VEVENT
DTSTART;TZID=UTC:20291120T170000
DTEND;TZID=UTC:20291120T200000
DTSTAMP:20260422T013753
CREATED:20250403T180227Z
LAST-MODIFIED:20250403T191542Z
UID:10000246-1889888400-1889899200@espos.com
SUMMARY:PATIO BAR OPEN WITH DJ TC
DESCRIPTION:
URL:https://espos.com/eventss/dj-tc-2/2029-11-20/
END:VEVENT
BEGIN:VEVENT
DTSTART;TZID=UTC:20291127T170000
DTEND;TZID=UTC:20291127T200000
DTSTAMP:20260422T013753
CREATED:20250403T180227Z
LAST-MODIFIED:20250403T191542Z
UID:10000247-1890493200-1890504000@espos.com
SUMMARY:PATIO BAR OPEN WITH DJ TC
DESCRIPTION:
URL:https://espos.com/eventss/dj-tc-2/2029-11-27/
END:VEVENT
BEGIN:VEVENT
DTSTART;TZID=UTC:20291204T170000
DTEND;TZID=UTC:20291204T200000
DTSTAMP:20260422T013753
CREATED:20250403T180227Z
LAST-MODIFIED:20250403T191542Z
UID:10000248-1891098000-1891108800@espos.com
SUMMARY:PATIO BAR OPEN WITH DJ TC
DESCRIPTION:
URL:https://espos.com/eventss/dj-tc-2/2029-12-04/
END:VEVENT
BEGIN:VEVENT
DTSTART;TZID=UTC:20291211T170000
DTEND;TZID=UTC:20291211T200000
DTSTAMP:20260422T013753
CREATED:20250403T180227Z
LAST-MODIFIED:20250403T191542Z
UID:10000249-1891702800-1891713600@espos.com
SUMMARY:PATIO BAR OPEN WITH DJ TC
DESCRIPTION:
URL:https://espos.com/eventss/dj-tc-2/2029-12-11/
END:VEVENT
BEGIN:VEVENT
DTSTART;TZID=UTC:20291218T170000
DTEND;TZID=UTC:20291218T200000
DTSTAMP:20260422T013753
CREATED:20250403T180227Z
LAST-MODIFIED:20250403T191542Z
UID:10000250-1892307600-1892318400@espos.com
SUMMARY:PATIO BAR OPEN WITH DJ TC
DESCRIPTION:
URL:https://espos.com/eventss/dj-tc-2/2029-12-18/
END:VEVENT
BEGIN:VEVENT
DTSTART;TZID=UTC:20291225T170000
DTEND;TZID=UTC:20291225T200000
DTSTAMP:20260422T013753
CREATED:20250403T180227Z
LAST-MODIFIED:20250403T191542Z
UID:10000251-1892912400-1892923200@espos.com
SUMMARY:PATIO BAR OPEN WITH DJ TC
DESCRIPTION:
URL:https://espos.com/eventss/dj-tc-2/2029-12-25/
END:VEVENT
BEGIN:VEVENT
DTSTART;TZID=UTC:20300101T170000
DTEND;TZID=UTC:20300101T200000
DTSTAMP:20260422T013753
CREATED:20250403T180227Z
LAST-MODIFIED:20250403T191542Z
UID:10000252-1893517200-1893528000@espos.com
SUMMARY:PATIO BAR OPEN WITH DJ TC
DESCRIPTION:
URL:https://espos.com/eventss/dj-tc-2/2030-01-01/
END:VEVENT
BEGIN:VEVENT
DTSTART;TZID=UTC:20300108T170000
DTEND;TZID=UTC:20300108T200000
DTSTAMP:20260422T013753
CREATED:20250403T180227Z
LAST-MODIFIED:20250403T191542Z
UID:10000253-1894122000-1894132800@espos.com
SUMMARY:PATIO BAR OPEN WITH DJ TC
DESCRIPTION:
URL:https://espos.com/eventss/dj-tc-2/2030-01-08/
END:VEVENT
END:VCALENDAR