BEGIN:VCALENDAR
VERSION:2.0
PRODID:-//Espo&#039;s Mexican Food - ECPv6.15.20//NONSGML v1.0//EN
CALSCALE:GREGORIAN
METHOD:PUBLISH
X-ORIGINAL-URL:https://espos.com
X-WR-CALDESC:Events for Espo&#039;s Mexican Food
REFRESH-INTERVAL;VALUE=DURATION:PT1H
X-Robots-Tag:noindex
X-PUBLISHED-TTL:PT1H
BEGIN:VTIMEZONE
TZID:UTC
BEGIN:STANDARD
TZOFFSETFROM:+0000
TZOFFSETTO:+0000
TZNAME:UTC
DTSTART:20290101T000000
END:STANDARD
END:VTIMEZONE
BEGIN:VEVENT
DTSTART;TZID=UTC:20300326T170000
DTEND;TZID=UTC:20300326T200000
DTSTAMP:20260421T204138
CREATED:20250403T180227Z
LAST-MODIFIED:20250403T191542Z
UID:10000264-1900774800-1900785600@espos.com
SUMMARY:PATIO BAR OPEN WITH DJ TC
DESCRIPTION:
URL:https://espos.com/eventss/dj-tc-2/2030-03-26/
END:VEVENT
BEGIN:VEVENT
DTSTART;TZID=UTC:20300402T170000
DTEND;TZID=UTC:20300402T200000
DTSTAMP:20260421T204138
CREATED:20250403T180227Z
LAST-MODIFIED:20250403T191542Z
UID:10000265-1901379600-1901390400@espos.com
SUMMARY:PATIO BAR OPEN WITH DJ TC
DESCRIPTION:
URL:https://espos.com/eventss/dj-tc-2/2030-04-02/
END:VEVENT
BEGIN:VEVENT
DTSTART;TZID=UTC:20300409T170000
DTEND;TZID=UTC:20300409T200000
DTSTAMP:20260421T204138
CREATED:20250403T180227Z
LAST-MODIFIED:20250403T191542Z
UID:10000272-1901984400-1901995200@espos.com
SUMMARY:PATIO BAR OPEN WITH DJ TC
DESCRIPTION:
URL:https://espos.com/eventss/dj-tc-2/2030-04-09/
END:VEVENT
BEGIN:VEVENT
DTSTART;TZID=UTC:20300416T170000
DTEND;TZID=UTC:20300416T200000
DTSTAMP:20260421T204138
CREATED:20250403T180227Z
LAST-MODIFIED:20250403T191542Z
UID:10000273-1902589200-1902600000@espos.com
SUMMARY:PATIO BAR OPEN WITH DJ TC
DESCRIPTION:
URL:https://espos.com/eventss/dj-tc-2/2030-04-16/
END:VEVENT
BEGIN:VEVENT
DTSTART;TZID=UTC:20300423T170000
DTEND;TZID=UTC:20300423T200000
DTSTAMP:20260421T204138
CREATED:20250403T180227Z
LAST-MODIFIED:20250403T191542Z
UID:10000274-1903194000-1903204800@espos.com
SUMMARY:PATIO BAR OPEN WITH DJ TC
DESCRIPTION:
URL:https://espos.com/eventss/dj-tc-2/2030-04-23/
END:VEVENT
BEGIN:VEVENT
DTSTART;TZID=UTC:20300430T170000
DTEND;TZID=UTC:20300430T200000
DTSTAMP:20260421T204138
CREATED:20250403T180227Z
LAST-MODIFIED:20250403T191542Z
UID:10000275-1903798800-1903809600@espos.com
SUMMARY:PATIO BAR OPEN WITH DJ TC
DESCRIPTION:
URL:https://espos.com/eventss/dj-tc-2/2030-04-30/
END:VEVENT
BEGIN:VEVENT
DTSTART;TZID=UTC:20300507T170000
DTEND;TZID=UTC:20300507T200000
DTSTAMP:20260421T204138
CREATED:20250403T180227Z
LAST-MODIFIED:20250403T191542Z
UID:10000276-1904403600-1904414400@espos.com
SUMMARY:PATIO BAR OPEN WITH DJ TC
DESCRIPTION:
URL:https://espos.com/eventss/dj-tc-2/2030-05-07/
END:VEVENT
BEGIN:VEVENT
DTSTART;TZID=UTC:20300514T170000
DTEND;TZID=UTC:20300514T200000
DTSTAMP:20260421T204138
CREATED:20250403T180227Z
LAST-MODIFIED:20250403T191542Z
UID:10000277-1905008400-1905019200@espos.com
SUMMARY:PATIO BAR OPEN WITH DJ TC
DESCRIPTION:
URL:https://espos.com/eventss/dj-tc-2/2030-05-14/
END:VEVENT
BEGIN:VEVENT
DTSTART;TZID=UTC:20300521T170000
DTEND;TZID=UTC:20300521T200000
DTSTAMP:20260421T204138
CREATED:20250403T180227Z
LAST-MODIFIED:20250403T191542Z
UID:10000278-1905613200-1905624000@espos.com
SUMMARY:PATIO BAR OPEN WITH DJ TC
DESCRIPTION:
URL:https://espos.com/eventss/dj-tc-2/2030-05-21/
END:VEVENT
BEGIN:VEVENT
DTSTART;TZID=UTC:20300528T170000
DTEND;TZID=UTC:20300528T200000
DTSTAMP:20260421T204138
CREATED:20250403T180227Z
LAST-MODIFIED:20250403T191542Z
UID:10000279-1906218000-1906228800@espos.com
SUMMARY:PATIO BAR OPEN WITH DJ TC
DESCRIPTION:
URL:https://espos.com/eventss/dj-tc-2/2030-05-28/
END:VEVENT
BEGIN:VEVENT
DTSTART;TZID=UTC:20300604T170000
DTEND;TZID=UTC:20300604T200000
DTSTAMP:20260421T204138
CREATED:20250403T180227Z
LAST-MODIFIED:20250403T191542Z
UID:10000280-1906822800-1906833600@espos.com
SUMMARY:PATIO BAR OPEN WITH DJ TC
DESCRIPTION:
URL:https://espos.com/eventss/dj-tc-2/2030-06-04/
END:VEVENT
BEGIN:VEVENT
DTSTART;TZID=UTC:20300611T170000
DTEND;TZID=UTC:20300611T200000
DTSTAMP:20260421T204138
CREATED:20250403T180227Z
LAST-MODIFIED:20250403T191542Z
UID:10000281-1907427600-1907438400@espos.com
SUMMARY:PATIO BAR OPEN WITH DJ TC
DESCRIPTION:
URL:https://espos.com/eventss/dj-tc-2/2030-06-11/
END:VEVENT
BEGIN:VEVENT
DTSTART;TZID=UTC:20300618T170000
DTEND;TZID=UTC:20300618T200000
DTSTAMP:20260421T204138
CREATED:20250403T180227Z
LAST-MODIFIED:20250403T191542Z
UID:10000282-1908032400-1908043200@espos.com
SUMMARY:PATIO BAR OPEN WITH DJ TC
DESCRIPTION:
URL:https://espos.com/eventss/dj-tc-2/2030-06-18/
END:VEVENT
BEGIN:VEVENT
DTSTART;TZID=UTC:20300625T170000
DTEND;TZID=UTC:20300625T200000
DTSTAMP:20260421T204138
CREATED:20250403T180227Z
LAST-MODIFIED:20250403T191542Z
UID:10000283-1908637200-1908648000@espos.com
SUMMARY:PATIO BAR OPEN WITH DJ TC
DESCRIPTION:
URL:https://espos.com/eventss/dj-tc-2/2030-06-25/
END:VEVENT
BEGIN:VEVENT
DTSTART;TZID=UTC:20300702T170000
DTEND;TZID=UTC:20300702T200000
DTSTAMP:20260421T204138
CREATED:20250403T180227Z
LAST-MODIFIED:20250403T191542Z
UID:10000284-1909242000-1909252800@espos.com
SUMMARY:PATIO BAR OPEN WITH DJ TC
DESCRIPTION:
URL:https://espos.com/eventss/dj-tc-2/2030-07-02/
END:VEVENT
BEGIN:VEVENT
DTSTART;TZID=UTC:20300709T170000
DTEND;TZID=UTC:20300709T200000
DTSTAMP:20260421T204138
CREATED:20250403T180227Z
LAST-MODIFIED:20250403T191542Z
UID:10000285-1909846800-1909857600@espos.com
SUMMARY:PATIO BAR OPEN WITH DJ TC
DESCRIPTION:
URL:https://espos.com/eventss/dj-tc-2/2030-07-09/
END:VEVENT
BEGIN:VEVENT
DTSTART;TZID=UTC:20300716T170000
DTEND;TZID=UTC:20300716T200000
DTSTAMP:20260421T204138
CREATED:20250403T180227Z
LAST-MODIFIED:20250403T191542Z
UID:10000286-1910451600-1910462400@espos.com
SUMMARY:PATIO BAR OPEN WITH DJ TC
DESCRIPTION:
URL:https://espos.com/eventss/dj-tc-2/2030-07-16/
END:VEVENT
BEGIN:VEVENT
DTSTART;TZID=UTC:20300723T170000
DTEND;TZID=UTC:20300723T200000
DTSTAMP:20260421T204138
CREATED:20250403T180227Z
LAST-MODIFIED:20250403T191542Z
UID:10000287-1911056400-1911067200@espos.com
SUMMARY:PATIO BAR OPEN WITH DJ TC
DESCRIPTION:
URL:https://espos.com/eventss/dj-tc-2/2030-07-23/
END:VEVENT
BEGIN:VEVENT
DTSTART;TZID=UTC:20300730T170000
DTEND;TZID=UTC:20300730T200000
DTSTAMP:20260421T204138
CREATED:20250403T180227Z
LAST-MODIFIED:20250403T191542Z
UID:10000288-1911661200-1911672000@espos.com
SUMMARY:PATIO BAR OPEN WITH DJ TC
DESCRIPTION:
URL:https://espos.com/eventss/dj-tc-2/2030-07-30/
END:VEVENT
BEGIN:VEVENT
DTSTART;TZID=UTC:20300806T170000
DTEND;TZID=UTC:20300806T200000
DTSTAMP:20260421T204138
CREATED:20250403T180227Z
LAST-MODIFIED:20250403T191542Z
UID:10000289-1912266000-1912276800@espos.com
SUMMARY:PATIO BAR OPEN WITH DJ TC
DESCRIPTION:
URL:https://espos.com/eventss/dj-tc-2/2030-08-06/
END:VEVENT
BEGIN:VEVENT
DTSTART;TZID=UTC:20300813T170000
DTEND;TZID=UTC:20300813T200000
DTSTAMP:20260421T204138
CREATED:20250403T180227Z
LAST-MODIFIED:20250403T191542Z
UID:10000290-1912870800-1912881600@espos.com
SUMMARY:PATIO BAR OPEN WITH DJ TC
DESCRIPTION:
URL:https://espos.com/eventss/dj-tc-2/2030-08-13/
END:VEVENT
BEGIN:VEVENT
DTSTART;TZID=UTC:20300820T170000
DTEND;TZID=UTC:20300820T200000
DTSTAMP:20260421T204138
CREATED:20250403T180227Z
LAST-MODIFIED:20250403T191542Z
UID:10000291-1913475600-1913486400@espos.com
SUMMARY:PATIO BAR OPEN WITH DJ TC
DESCRIPTION:
URL:https://espos.com/eventss/dj-tc-2/2030-08-20/
END:VEVENT
BEGIN:VEVENT
DTSTART;TZID=UTC:20300827T170000
DTEND;TZID=UTC:20300827T200000
DTSTAMP:20260421T204139
CREATED:20250403T180227Z
LAST-MODIFIED:20250403T191542Z
UID:10000292-1914080400-1914091200@espos.com
SUMMARY:PATIO BAR OPEN WITH DJ TC
DESCRIPTION:
URL:https://espos.com/eventss/dj-tc-2/2030-08-27/
END:VEVENT
BEGIN:VEVENT
DTSTART;TZID=UTC:20300903T170000
DTEND;TZID=UTC:20300903T200000
DTSTAMP:20260421T204139
CREATED:20250403T180227Z
LAST-MODIFIED:20250403T191542Z
UID:10000293-1914685200-1914696000@espos.com
SUMMARY:PATIO BAR OPEN WITH DJ TC
DESCRIPTION:
URL:https://espos.com/eventss/dj-tc-2/2030-09-03/
END:VEVENT
BEGIN:VEVENT
DTSTART;TZID=UTC:20300910T170000
DTEND;TZID=UTC:20300910T200000
DTSTAMP:20260421T204139
CREATED:20250403T180227Z
LAST-MODIFIED:20250403T191542Z
UID:10000294-1915290000-1915300800@espos.com
SUMMARY:PATIO BAR OPEN WITH DJ TC
DESCRIPTION:
URL:https://espos.com/eventss/dj-tc-2/2030-09-10/
END:VEVENT
BEGIN:VEVENT
DTSTART;TZID=UTC:20300917T170000
DTEND;TZID=UTC:20300917T200000
DTSTAMP:20260421T204139
CREATED:20250403T180227Z
LAST-MODIFIED:20250403T191542Z
UID:10000295-1915894800-1915905600@espos.com
SUMMARY:PATIO BAR OPEN WITH DJ TC
DESCRIPTION:
URL:https://espos.com/eventss/dj-tc-2/2030-09-17/
END:VEVENT
BEGIN:VEVENT
DTSTART;TZID=UTC:20300924T170000
DTEND;TZID=UTC:20300924T200000
DTSTAMP:20260421T204139
CREATED:20250403T180227Z
LAST-MODIFIED:20250403T191542Z
UID:10000296-1916499600-1916510400@espos.com
SUMMARY:PATIO BAR OPEN WITH DJ TC
DESCRIPTION:
URL:https://espos.com/eventss/dj-tc-2/2030-09-24/
END:VEVENT
BEGIN:VEVENT
DTSTART;TZID=UTC:20301001T170000
DTEND;TZID=UTC:20301001T200000
DTSTAMP:20260421T204139
CREATED:20250403T180227Z
LAST-MODIFIED:20250403T191542Z
UID:10000297-1917104400-1917115200@espos.com
SUMMARY:PATIO BAR OPEN WITH DJ TC
DESCRIPTION:
URL:https://espos.com/eventss/dj-tc-2/2030-10-01/
END:VEVENT
BEGIN:VEVENT
DTSTART;TZID=UTC:20301008T170000
DTEND;TZID=UTC:20301008T200000
DTSTAMP:20260421T204139
CREATED:20250403T180227Z
LAST-MODIFIED:20250403T191542Z
UID:10000298-1917709200-1917720000@espos.com
SUMMARY:PATIO BAR OPEN WITH DJ TC
DESCRIPTION:
URL:https://espos.com/eventss/dj-tc-2/2030-10-08/
END:VEVENT
BEGIN:VEVENT
DTSTART;TZID=UTC:20301015T170000
DTEND;TZID=UTC:20301015T200000
DTSTAMP:20260421T204139
CREATED:20250403T180227Z
LAST-MODIFIED:20250403T191542Z
UID:10000299-1918314000-1918324800@espos.com
SUMMARY:PATIO BAR OPEN WITH DJ TC
DESCRIPTION:
URL:https://espos.com/eventss/dj-tc-2/2030-10-15/
END:VEVENT
END:VCALENDAR