BEGIN:VCALENDAR
VERSION:2.0
PRODID:-//Espo&#039;s Mexican Food - ECPv6.15.20//NONSGML v1.0//EN
CALSCALE:GREGORIAN
METHOD:PUBLISH
X-WR-CALNAME:Espo&#039;s Mexican Food
X-ORIGINAL-URL:https://espos.com
X-WR-CALDESC:Events for Espo&#039;s Mexican Food
REFRESH-INTERVAL;VALUE=DURATION:PT1H
X-Robots-Tag:noindex
X-PUBLISHED-TTL:PT1H
BEGIN:VTIMEZONE
TZID:UTC
BEGIN:STANDARD
TZOFFSETFROM:+0000
TZOFFSETTO:+0000
TZNAME:UTC
DTSTART:20290101T000000
END:STANDARD
END:VTIMEZONE
BEGIN:VEVENT
DTSTART;TZID=UTC:20300917T170000
DTEND;TZID=UTC:20300917T200000
DTSTAMP:20260422T012450
CREATED:20250403T180227Z
LAST-MODIFIED:20250403T191542Z
UID:10000295-1915894800-1915905600@espos.com
SUMMARY:PATIO BAR OPEN WITH DJ TC
DESCRIPTION:
URL:https://espos.com/eventss/dj-tc-2/2030-09-17/
END:VEVENT
BEGIN:VEVENT
DTSTART;TZID=UTC:20300924T170000
DTEND;TZID=UTC:20300924T200000
DTSTAMP:20260422T012450
CREATED:20250403T180227Z
LAST-MODIFIED:20250403T191542Z
UID:10000296-1916499600-1916510400@espos.com
SUMMARY:PATIO BAR OPEN WITH DJ TC
DESCRIPTION:
URL:https://espos.com/eventss/dj-tc-2/2030-09-24/
END:VEVENT
BEGIN:VEVENT
DTSTART;TZID=UTC:20301001T170000
DTEND;TZID=UTC:20301001T200000
DTSTAMP:20260422T012450
CREATED:20250403T180227Z
LAST-MODIFIED:20250403T191542Z
UID:10000297-1917104400-1917115200@espos.com
SUMMARY:PATIO BAR OPEN WITH DJ TC
DESCRIPTION:
URL:https://espos.com/eventss/dj-tc-2/2030-10-01/
END:VEVENT
BEGIN:VEVENT
DTSTART;TZID=UTC:20301008T170000
DTEND;TZID=UTC:20301008T200000
DTSTAMP:20260422T012450
CREATED:20250403T180227Z
LAST-MODIFIED:20250403T191542Z
UID:10000298-1917709200-1917720000@espos.com
SUMMARY:PATIO BAR OPEN WITH DJ TC
DESCRIPTION:
URL:https://espos.com/eventss/dj-tc-2/2030-10-08/
END:VEVENT
BEGIN:VEVENT
DTSTART;TZID=UTC:20301015T170000
DTEND;TZID=UTC:20301015T200000
DTSTAMP:20260422T012450
CREATED:20250403T180227Z
LAST-MODIFIED:20250403T191542Z
UID:10000299-1918314000-1918324800@espos.com
SUMMARY:PATIO BAR OPEN WITH DJ TC
DESCRIPTION:
URL:https://espos.com/eventss/dj-tc-2/2030-10-15/
END:VEVENT
END:VCALENDAR