BEGIN:VCALENDAR
VERSION:2.0
PRODID:-//Espo&#039;s Mexican Food - ECPv6.15.20//NONSGML v1.0//EN
CALSCALE:GREGORIAN
METHOD:PUBLISH
X-ORIGINAL-URL:https://espos.com
X-WR-CALDESC:Events for Espo&#039;s Mexican Food
REFRESH-INTERVAL;VALUE=DURATION:PT1H
X-Robots-Tag:noindex
X-PUBLISHED-TTL:PT1H
BEGIN:VTIMEZONE
TZID:UTC
BEGIN:STANDARD
TZOFFSETFROM:+0000
TZOFFSETTO:+0000
TZNAME:UTC
DTSTART:20250101T000000
END:STANDARD
END:VTIMEZONE
BEGIN:VEVENT
DTSTART;TZID=UTC:20261117T170000
DTEND;TZID=UTC:20261117T200000
DTSTAMP:20260421T034142
CREATED:20250403T180227Z
LAST-MODIFIED:20250403T191542Z
UID:10000089-1794934800-1794945600@espos.com
SUMMARY:PATIO BAR OPEN WITH DJ TC
DESCRIPTION:
URL:https://espos.com/eventss/dj-tc-2/2026-11-17/
END:VEVENT
BEGIN:VEVENT
DTSTART;TZID=UTC:20261124T170000
DTEND;TZID=UTC:20261124T200000
DTSTAMP:20260421T034142
CREATED:20250403T180227Z
LAST-MODIFIED:20250403T191542Z
UID:10000090-1795539600-1795550400@espos.com
SUMMARY:PATIO BAR OPEN WITH DJ TC
DESCRIPTION:
URL:https://espos.com/eventss/dj-tc-2/2026-11-24/
END:VEVENT
BEGIN:VEVENT
DTSTART;TZID=UTC:20261201T170000
DTEND;TZID=UTC:20261201T200000
DTSTAMP:20260421T034142
CREATED:20250403T180227Z
LAST-MODIFIED:20250403T191542Z
UID:10000091-1796144400-1796155200@espos.com
SUMMARY:PATIO BAR OPEN WITH DJ TC
DESCRIPTION:
URL:https://espos.com/eventss/dj-tc-2/2026-12-01/
END:VEVENT
BEGIN:VEVENT
DTSTART;TZID=UTC:20261208T170000
DTEND;TZID=UTC:20261208T200000
DTSTAMP:20260421T034142
CREATED:20250403T180227Z
LAST-MODIFIED:20250403T191542Z
UID:10000092-1796749200-1796760000@espos.com
SUMMARY:PATIO BAR OPEN WITH DJ TC
DESCRIPTION:
URL:https://espos.com/eventss/dj-tc-2/2026-12-08/
END:VEVENT
BEGIN:VEVENT
DTSTART;TZID=UTC:20261215T170000
DTEND;TZID=UTC:20261215T200000
DTSTAMP:20260421T034142
CREATED:20250403T180227Z
LAST-MODIFIED:20250403T191542Z
UID:10000093-1797354000-1797364800@espos.com
SUMMARY:PATIO BAR OPEN WITH DJ TC
DESCRIPTION:
URL:https://espos.com/eventss/dj-tc-2/2026-12-15/
END:VEVENT
BEGIN:VEVENT
DTSTART;TZID=UTC:20261222T170000
DTEND;TZID=UTC:20261222T200000
DTSTAMP:20260421T034142
CREATED:20250403T180227Z
LAST-MODIFIED:20250403T191542Z
UID:10000094-1797958800-1797969600@espos.com
SUMMARY:PATIO BAR OPEN WITH DJ TC
DESCRIPTION:
URL:https://espos.com/eventss/dj-tc-2/2026-12-22/
END:VEVENT
BEGIN:VEVENT
DTSTART;TZID=UTC:20261229T170000
DTEND;TZID=UTC:20261229T200000
DTSTAMP:20260421T034142
CREATED:20250403T180227Z
LAST-MODIFIED:20250403T191542Z
UID:10000095-1798563600-1798574400@espos.com
SUMMARY:PATIO BAR OPEN WITH DJ TC
DESCRIPTION:
URL:https://espos.com/eventss/dj-tc-2/2026-12-29/
END:VEVENT
BEGIN:VEVENT
DTSTART;TZID=UTC:20270105T170000
DTEND;TZID=UTC:20270105T200000
DTSTAMP:20260421T034142
CREATED:20250403T180227Z
LAST-MODIFIED:20250403T191542Z
UID:10000096-1799168400-1799179200@espos.com
SUMMARY:PATIO BAR OPEN WITH DJ TC
DESCRIPTION:
URL:https://espos.com/eventss/dj-tc-2/2027-01-05/
END:VEVENT
BEGIN:VEVENT
DTSTART;TZID=UTC:20270112T170000
DTEND;TZID=UTC:20270112T200000
DTSTAMP:20260421T034142
CREATED:20250403T180227Z
LAST-MODIFIED:20250403T191542Z
UID:10000097-1799773200-1799784000@espos.com
SUMMARY:PATIO BAR OPEN WITH DJ TC
DESCRIPTION:
URL:https://espos.com/eventss/dj-tc-2/2027-01-12/
END:VEVENT
BEGIN:VEVENT
DTSTART;TZID=UTC:20270119T170000
DTEND;TZID=UTC:20270119T200000
DTSTAMP:20260421T034142
CREATED:20250403T180227Z
LAST-MODIFIED:20250403T191542Z
UID:10000098-1800378000-1800388800@espos.com
SUMMARY:PATIO BAR OPEN WITH DJ TC
DESCRIPTION:
URL:https://espos.com/eventss/dj-tc-2/2027-01-19/
END:VEVENT
BEGIN:VEVENT
DTSTART;TZID=UTC:20270126T170000
DTEND;TZID=UTC:20270126T200000
DTSTAMP:20260421T034142
CREATED:20250403T180227Z
LAST-MODIFIED:20250403T191542Z
UID:10000099-1800982800-1800993600@espos.com
SUMMARY:PATIO BAR OPEN WITH DJ TC
DESCRIPTION:
URL:https://espos.com/eventss/dj-tc-2/2027-01-26/
END:VEVENT
BEGIN:VEVENT
DTSTART;TZID=UTC:20270202T170000
DTEND;TZID=UTC:20270202T200000
DTSTAMP:20260421T034142
CREATED:20250403T180227Z
LAST-MODIFIED:20250403T191542Z
UID:10000100-1801587600-1801598400@espos.com
SUMMARY:PATIO BAR OPEN WITH DJ TC
DESCRIPTION:
URL:https://espos.com/eventss/dj-tc-2/2027-02-02/
END:VEVENT
BEGIN:VEVENT
DTSTART;TZID=UTC:20270209T170000
DTEND;TZID=UTC:20270209T200000
DTSTAMP:20260421T034142
CREATED:20250403T180227Z
LAST-MODIFIED:20250403T191542Z
UID:10000101-1802192400-1802203200@espos.com
SUMMARY:PATIO BAR OPEN WITH DJ TC
DESCRIPTION:
URL:https://espos.com/eventss/dj-tc-2/2027-02-09/
END:VEVENT
BEGIN:VEVENT
DTSTART;TZID=UTC:20270216T170000
DTEND;TZID=UTC:20270216T200000
DTSTAMP:20260421T034142
CREATED:20250403T180227Z
LAST-MODIFIED:20250403T191542Z
UID:10000102-1802797200-1802808000@espos.com
SUMMARY:PATIO BAR OPEN WITH DJ TC
DESCRIPTION:
URL:https://espos.com/eventss/dj-tc-2/2027-02-16/
END:VEVENT
BEGIN:VEVENT
DTSTART;TZID=UTC:20270223T170000
DTEND;TZID=UTC:20270223T200000
DTSTAMP:20260421T034142
CREATED:20250403T180227Z
LAST-MODIFIED:20250403T191542Z
UID:10000103-1803402000-1803412800@espos.com
SUMMARY:PATIO BAR OPEN WITH DJ TC
DESCRIPTION:
URL:https://espos.com/eventss/dj-tc-2/2027-02-23/
END:VEVENT
BEGIN:VEVENT
DTSTART;TZID=UTC:20270302T170000
DTEND;TZID=UTC:20270302T200000
DTSTAMP:20260421T034142
CREATED:20250403T180227Z
LAST-MODIFIED:20250403T191542Z
UID:10000104-1804006800-1804017600@espos.com
SUMMARY:PATIO BAR OPEN WITH DJ TC
DESCRIPTION:
URL:https://espos.com/eventss/dj-tc-2/2027-03-02/
END:VEVENT
BEGIN:VEVENT
DTSTART;TZID=UTC:20270309T170000
DTEND;TZID=UTC:20270309T200000
DTSTAMP:20260421T034142
CREATED:20250403T180227Z
LAST-MODIFIED:20250403T191542Z
UID:10000105-1804611600-1804622400@espos.com
SUMMARY:PATIO BAR OPEN WITH DJ TC
DESCRIPTION:
URL:https://espos.com/eventss/dj-tc-2/2027-03-09/
END:VEVENT
BEGIN:VEVENT
DTSTART;TZID=UTC:20270316T170000
DTEND;TZID=UTC:20270316T200000
DTSTAMP:20260421T034142
CREATED:20250403T180227Z
LAST-MODIFIED:20250403T191542Z
UID:10000106-1805216400-1805227200@espos.com
SUMMARY:PATIO BAR OPEN WITH DJ TC
DESCRIPTION:
URL:https://espos.com/eventss/dj-tc-2/2027-03-16/
END:VEVENT
BEGIN:VEVENT
DTSTART;TZID=UTC:20270323T170000
DTEND;TZID=UTC:20270323T200000
DTSTAMP:20260421T034142
CREATED:20250403T180227Z
LAST-MODIFIED:20250403T191542Z
UID:10000107-1805821200-1805832000@espos.com
SUMMARY:PATIO BAR OPEN WITH DJ TC
DESCRIPTION:
URL:https://espos.com/eventss/dj-tc-2/2027-03-23/
END:VEVENT
BEGIN:VEVENT
DTSTART;TZID=UTC:20270330T170000
DTEND;TZID=UTC:20270330T200000
DTSTAMP:20260421T034142
CREATED:20250403T180227Z
LAST-MODIFIED:20250403T191542Z
UID:10000108-1806426000-1806436800@espos.com
SUMMARY:PATIO BAR OPEN WITH DJ TC
DESCRIPTION:
URL:https://espos.com/eventss/dj-tc-2/2027-03-30/
END:VEVENT
BEGIN:VEVENT
DTSTART;TZID=UTC:20270406T170000
DTEND;TZID=UTC:20270406T200000
DTSTAMP:20260421T034142
CREATED:20250403T180227Z
LAST-MODIFIED:20250403T191542Z
UID:10000109-1807030800-1807041600@espos.com
SUMMARY:PATIO BAR OPEN WITH DJ TC
DESCRIPTION:
URL:https://espos.com/eventss/dj-tc-2/2027-04-06/
END:VEVENT
BEGIN:VEVENT
DTSTART;TZID=UTC:20270413T170000
DTEND;TZID=UTC:20270413T200000
DTSTAMP:20260421T034142
CREATED:20250403T180227Z
LAST-MODIFIED:20250403T191542Z
UID:10000110-1807635600-1807646400@espos.com
SUMMARY:PATIO BAR OPEN WITH DJ TC
DESCRIPTION:
URL:https://espos.com/eventss/dj-tc-2/2027-04-13/
END:VEVENT
BEGIN:VEVENT
DTSTART;TZID=UTC:20270420T170000
DTEND;TZID=UTC:20270420T200000
DTSTAMP:20260421T034142
CREATED:20250403T180227Z
LAST-MODIFIED:20250403T191542Z
UID:10000111-1808240400-1808251200@espos.com
SUMMARY:PATIO BAR OPEN WITH DJ TC
DESCRIPTION:
URL:https://espos.com/eventss/dj-tc-2/2027-04-20/
END:VEVENT
BEGIN:VEVENT
DTSTART;TZID=UTC:20270427T170000
DTEND;TZID=UTC:20270427T200000
DTSTAMP:20260421T034142
CREATED:20250403T180227Z
LAST-MODIFIED:20250403T191542Z
UID:10000112-1808845200-1808856000@espos.com
SUMMARY:PATIO BAR OPEN WITH DJ TC
DESCRIPTION:
URL:https://espos.com/eventss/dj-tc-2/2027-04-27/
END:VEVENT
BEGIN:VEVENT
DTSTART;TZID=UTC:20270504T170000
DTEND;TZID=UTC:20270504T200000
DTSTAMP:20260421T034142
CREATED:20250403T180227Z
LAST-MODIFIED:20250403T191542Z
UID:10000113-1809450000-1809460800@espos.com
SUMMARY:PATIO BAR OPEN WITH DJ TC
DESCRIPTION:
URL:https://espos.com/eventss/dj-tc-2/2027-05-04/
END:VEVENT
BEGIN:VEVENT
DTSTART;TZID=UTC:20270511T170000
DTEND;TZID=UTC:20270511T200000
DTSTAMP:20260421T034142
CREATED:20250403T180227Z
LAST-MODIFIED:20250403T191542Z
UID:10000114-1810054800-1810065600@espos.com
SUMMARY:PATIO BAR OPEN WITH DJ TC
DESCRIPTION:
URL:https://espos.com/eventss/dj-tc-2/2027-05-11/
END:VEVENT
BEGIN:VEVENT
DTSTART;TZID=UTC:20270518T170000
DTEND;TZID=UTC:20270518T200000
DTSTAMP:20260421T034142
CREATED:20250403T180227Z
LAST-MODIFIED:20250403T191542Z
UID:10000115-1810659600-1810670400@espos.com
SUMMARY:PATIO BAR OPEN WITH DJ TC
DESCRIPTION:
URL:https://espos.com/eventss/dj-tc-2/2027-05-18/
END:VEVENT
BEGIN:VEVENT
DTSTART;TZID=UTC:20270525T170000
DTEND;TZID=UTC:20270525T200000
DTSTAMP:20260421T034142
CREATED:20250403T180227Z
LAST-MODIFIED:20250403T191542Z
UID:10000116-1811264400-1811275200@espos.com
SUMMARY:PATIO BAR OPEN WITH DJ TC
DESCRIPTION:
URL:https://espos.com/eventss/dj-tc-2/2027-05-25/
END:VEVENT
BEGIN:VEVENT
DTSTART;TZID=UTC:20270601T170000
DTEND;TZID=UTC:20270601T200000
DTSTAMP:20260421T034142
CREATED:20250403T180227Z
LAST-MODIFIED:20250403T191542Z
UID:10000117-1811869200-1811880000@espos.com
SUMMARY:PATIO BAR OPEN WITH DJ TC
DESCRIPTION:
URL:https://espos.com/eventss/dj-tc-2/2027-06-01/
END:VEVENT
BEGIN:VEVENT
DTSTART;TZID=UTC:20270608T170000
DTEND;TZID=UTC:20270608T200000
DTSTAMP:20260421T034142
CREATED:20250403T180227Z
LAST-MODIFIED:20250403T191542Z
UID:10000118-1812474000-1812484800@espos.com
SUMMARY:PATIO BAR OPEN WITH DJ TC
DESCRIPTION:
URL:https://espos.com/eventss/dj-tc-2/2027-06-08/
END:VEVENT
END:VCALENDAR