BEGIN:VCALENDAR
VERSION:2.0
PRODID:-//Espo&#039;s Mexican Food - ECPv6.15.20//NONSGML v1.0//EN
CALSCALE:GREGORIAN
METHOD:PUBLISH
X-WR-CALNAME:Espo&#039;s Mexican Food
X-ORIGINAL-URL:https://espos.com
X-WR-CALDESC:Events for Espo&#039;s Mexican Food
REFRESH-INTERVAL;VALUE=DURATION:PT1H
X-Robots-Tag:noindex
X-PUBLISHED-TTL:PT1H
BEGIN:VTIMEZONE
TZID:UTC
BEGIN:STANDARD
TZOFFSETFROM:+0000
TZOFFSETTO:+0000
TZNAME:UTC
DTSTART:20230101T000000
END:STANDARD
END:VTIMEZONE
BEGIN:VEVENT
DTSTART;TZID=UTC:20250429T170000
DTEND;TZID=UTC:20250429T200000
DTSTAMP:20260421T040513
CREATED:20250403T180227Z
LAST-MODIFIED:20250403T191542Z
UID:10000008-1745946000-1745956800@espos.com
SUMMARY:PATIO BAR OPEN WITH DJ TC
DESCRIPTION:
URL:https://espos.com/eventss/dj-tc-2/2025-04-29/
END:VEVENT
BEGIN:VEVENT
DTSTART;TZID=UTC:20250422T170000
DTEND;TZID=UTC:20250422T200000
DTSTAMP:20260421T040513
CREATED:20250403T180227Z
LAST-MODIFIED:20250403T191542Z
UID:10000007-1745341200-1745352000@espos.com
SUMMARY:PATIO BAR OPEN WITH DJ TC
DESCRIPTION:
URL:https://espos.com/eventss/dj-tc-2/2025-04-22/
END:VEVENT
BEGIN:VEVENT
DTSTART;VALUE=DATE:20250420
DTEND;VALUE=DATE:20250421
DTSTAMP:20260421T040513
CREATED:20250403T175755Z
LAST-MODIFIED:20250403T180048Z
UID:10000005-1745107200-1745193599@espos.com
SUMMARY:EASTER CLOSED
DESCRIPTION:
URL:https://espos.com/eventss/closed-for-easter/
END:VEVENT
BEGIN:VEVENT
DTSTART;TZID=UTC:20250415T170000
DTEND;TZID=UTC:20250415T200000
DTSTAMP:20260421T040513
CREATED:20250403T180227Z
LAST-MODIFIED:20250403T191542Z
UID:10000006-1744736400-1744747200@espos.com
SUMMARY:PATIO BAR OPEN WITH DJ TC
DESCRIPTION:
URL:https://espos.com/eventss/dj-tc-2/2025-04-15/
END:VEVENT
BEGIN:VEVENT
DTSTART;TZID=UTC:20250408T170000
DTEND;TZID=UTC:20250408T200000
DTSTAMP:20260421T040513
CREATED:20250403T175539Z
LAST-MODIFIED:20250403T180110Z
UID:10000004-1744131600-1744142400@espos.com
SUMMARY:DJ TC
DESCRIPTION:
URL:https://espos.com/eventss/dj-tc/
END:VEVENT
BEGIN:VEVENT
DTSTART;VALUE=DATE:20250209
DTEND;VALUE=DATE:20250210
DTSTAMP:20260421T040513
CREATED:20250207T165510Z
LAST-MODIFIED:20250207T165542Z
UID:10000003-1739059200-1739145599@espos.com
SUMMARY:Sunday FUNday 10:00AM-5:00PM
DESCRIPTION:No DJ Today
URL:https://espos.com/eventss/open-1000am-500pm/
END:VEVENT
BEGIN:VEVENT
DTSTART;VALUE=DATE:20241225
DTEND;VALUE=DATE:20241226
DTSTAMP:20260421T040513
CREATED:20241207T000539Z
LAST-MODIFIED:20241212T171710Z
UID:10000001-1735084800-1735171199@espos.com
SUMMARY:Closed
DESCRIPTION:
URL:https://espos.com/eventss/closed-for-christmas/
END:VEVENT
BEGIN:VEVENT
DTSTART;VALUE=DATE:20241224
DTEND;VALUE=DATE:20241225
DTSTAMP:20260421T040513
CREATED:20241212T172123Z
LAST-MODIFIED:20241212T173848Z
UID:10000002-1734998400-1735084799@espos.com
SUMMARY:Closing at 3:00pm
DESCRIPTION:
URL:https://espos.com/eventss/closing-at-300pm/
END:VEVENT
END:VCALENDAR