BEGIN:VCALENDAR
VERSION:2.0
PRODID:-//Espo&#039;s Mexican Food - ECPv6.15.20//NONSGML v1.0//EN
CALSCALE:GREGORIAN
METHOD:PUBLISH
X-WR-CALNAME:Espo&#039;s Mexican Food
X-ORIGINAL-URL:https://espos.com
X-WR-CALDESC:Events for Espo&#039;s Mexican Food
REFRESH-INTERVAL;VALUE=DURATION:PT1H
X-Robots-Tag:noindex
X-PUBLISHED-TTL:PT1H
BEGIN:VTIMEZONE
TZID:UTC
BEGIN:STANDARD
TZOFFSETFROM:+0000
TZOFFSETTO:+0000
TZNAME:UTC
DTSTART:20260101T000000
END:STANDARD
END:VTIMEZONE
BEGIN:VEVENT
DTSTART;TZID=UTC:20270622T170000
DTEND;TZID=UTC:20270622T200000
DTSTAMP:20260421T042609
CREATED:20250403T180227Z
LAST-MODIFIED:20250403T191542Z
UID:10000120-1813683600-1813694400@espos.com
SUMMARY:PATIO BAR OPEN WITH DJ TC
DESCRIPTION:
URL:https://espos.com/eventss/dj-tc-2/2027-06-22/
END:VEVENT
BEGIN:VEVENT
DTSTART;TZID=UTC:20270629T170000
DTEND;TZID=UTC:20270629T200000
DTSTAMP:20260421T042609
CREATED:20250403T180227Z
LAST-MODIFIED:20250403T191542Z
UID:10000121-1814288400-1814299200@espos.com
SUMMARY:PATIO BAR OPEN WITH DJ TC
DESCRIPTION:
URL:https://espos.com/eventss/dj-tc-2/2027-06-29/
END:VEVENT
BEGIN:VEVENT
DTSTART;TZID=UTC:20270706T170000
DTEND;TZID=UTC:20270706T200000
DTSTAMP:20260421T042609
CREATED:20250403T180227Z
LAST-MODIFIED:20250403T191542Z
UID:10000122-1814893200-1814904000@espos.com
SUMMARY:PATIO BAR OPEN WITH DJ TC
DESCRIPTION:
URL:https://espos.com/eventss/dj-tc-2/2027-07-06/
END:VEVENT
BEGIN:VEVENT
DTSTART;TZID=UTC:20270713T170000
DTEND;TZID=UTC:20270713T200000
DTSTAMP:20260421T042609
CREATED:20250403T180227Z
LAST-MODIFIED:20250403T191542Z
UID:10000123-1815498000-1815508800@espos.com
SUMMARY:PATIO BAR OPEN WITH DJ TC
DESCRIPTION:
URL:https://espos.com/eventss/dj-tc-2/2027-07-13/
END:VEVENT
BEGIN:VEVENT
DTSTART;TZID=UTC:20270720T170000
DTEND;TZID=UTC:20270720T200000
DTSTAMP:20260421T042609
CREATED:20250403T180227Z
LAST-MODIFIED:20250403T191542Z
UID:10000124-1816102800-1816113600@espos.com
SUMMARY:PATIO BAR OPEN WITH DJ TC
DESCRIPTION:
URL:https://espos.com/eventss/dj-tc-2/2027-07-20/
END:VEVENT
BEGIN:VEVENT
DTSTART;TZID=UTC:20270727T170000
DTEND;TZID=UTC:20270727T200000
DTSTAMP:20260421T042609
CREATED:20250403T180227Z
LAST-MODIFIED:20250403T191542Z
UID:10000125-1816707600-1816718400@espos.com
SUMMARY:PATIO BAR OPEN WITH DJ TC
DESCRIPTION:
URL:https://espos.com/eventss/dj-tc-2/2027-07-27/
END:VEVENT
BEGIN:VEVENT
DTSTART;TZID=UTC:20270803T170000
DTEND;TZID=UTC:20270803T200000
DTSTAMP:20260421T042609
CREATED:20250403T180227Z
LAST-MODIFIED:20250403T191542Z
UID:10000126-1817312400-1817323200@espos.com
SUMMARY:PATIO BAR OPEN WITH DJ TC
DESCRIPTION:
URL:https://espos.com/eventss/dj-tc-2/2027-08-03/
END:VEVENT
BEGIN:VEVENT
DTSTART;TZID=UTC:20270810T170000
DTEND;TZID=UTC:20270810T200000
DTSTAMP:20260421T042609
CREATED:20250403T180227Z
LAST-MODIFIED:20250403T191542Z
UID:10000127-1817917200-1817928000@espos.com
SUMMARY:PATIO BAR OPEN WITH DJ TC
DESCRIPTION:
URL:https://espos.com/eventss/dj-tc-2/2027-08-10/
END:VEVENT
BEGIN:VEVENT
DTSTART;TZID=UTC:20270817T170000
DTEND;TZID=UTC:20270817T200000
DTSTAMP:20260421T042609
CREATED:20250403T180227Z
LAST-MODIFIED:20250403T191542Z
UID:10000128-1818522000-1818532800@espos.com
SUMMARY:PATIO BAR OPEN WITH DJ TC
DESCRIPTION:
URL:https://espos.com/eventss/dj-tc-2/2027-08-17/
END:VEVENT
BEGIN:VEVENT
DTSTART;TZID=UTC:20270824T170000
DTEND;TZID=UTC:20270824T200000
DTSTAMP:20260421T042609
CREATED:20250403T180227Z
LAST-MODIFIED:20250403T191542Z
UID:10000129-1819126800-1819137600@espos.com
SUMMARY:PATIO BAR OPEN WITH DJ TC
DESCRIPTION:
URL:https://espos.com/eventss/dj-tc-2/2027-08-24/
END:VEVENT
BEGIN:VEVENT
DTSTART;TZID=UTC:20270831T170000
DTEND;TZID=UTC:20270831T200000
DTSTAMP:20260421T042609
CREATED:20250403T180227Z
LAST-MODIFIED:20250403T191542Z
UID:10000130-1819731600-1819742400@espos.com
SUMMARY:PATIO BAR OPEN WITH DJ TC
DESCRIPTION:
URL:https://espos.com/eventss/dj-tc-2/2027-08-31/
END:VEVENT
BEGIN:VEVENT
DTSTART;TZID=UTC:20270907T170000
DTEND;TZID=UTC:20270907T200000
DTSTAMP:20260421T042609
CREATED:20250403T180227Z
LAST-MODIFIED:20250403T191542Z
UID:10000131-1820336400-1820347200@espos.com
SUMMARY:PATIO BAR OPEN WITH DJ TC
DESCRIPTION:
URL:https://espos.com/eventss/dj-tc-2/2027-09-07/
END:VEVENT
BEGIN:VEVENT
DTSTART;TZID=UTC:20270914T170000
DTEND;TZID=UTC:20270914T200000
DTSTAMP:20260421T042609
CREATED:20250403T180227Z
LAST-MODIFIED:20250403T191542Z
UID:10000132-1820941200-1820952000@espos.com
SUMMARY:PATIO BAR OPEN WITH DJ TC
DESCRIPTION:
URL:https://espos.com/eventss/dj-tc-2/2027-09-14/
END:VEVENT
BEGIN:VEVENT
DTSTART;TZID=UTC:20270921T170000
DTEND;TZID=UTC:20270921T200000
DTSTAMP:20260421T042609
CREATED:20250403T180227Z
LAST-MODIFIED:20250403T191542Z
UID:10000133-1821546000-1821556800@espos.com
SUMMARY:PATIO BAR OPEN WITH DJ TC
DESCRIPTION:
URL:https://espos.com/eventss/dj-tc-2/2027-09-21/
END:VEVENT
BEGIN:VEVENT
DTSTART;TZID=UTC:20270928T170000
DTEND;TZID=UTC:20270928T200000
DTSTAMP:20260421T042609
CREATED:20250403T180227Z
LAST-MODIFIED:20250403T191542Z
UID:10000134-1822150800-1822161600@espos.com
SUMMARY:PATIO BAR OPEN WITH DJ TC
DESCRIPTION:
URL:https://espos.com/eventss/dj-tc-2/2027-09-28/
END:VEVENT
BEGIN:VEVENT
DTSTART;TZID=UTC:20271005T170000
DTEND;TZID=UTC:20271005T200000
DTSTAMP:20260421T042609
CREATED:20250403T180227Z
LAST-MODIFIED:20250403T191542Z
UID:10000135-1822755600-1822766400@espos.com
SUMMARY:PATIO BAR OPEN WITH DJ TC
DESCRIPTION:
URL:https://espos.com/eventss/dj-tc-2/2027-10-05/
END:VEVENT
BEGIN:VEVENT
DTSTART;TZID=UTC:20271012T170000
DTEND;TZID=UTC:20271012T200000
DTSTAMP:20260421T042609
CREATED:20250403T180227Z
LAST-MODIFIED:20250403T191542Z
UID:10000136-1823360400-1823371200@espos.com
SUMMARY:PATIO BAR OPEN WITH DJ TC
DESCRIPTION:
URL:https://espos.com/eventss/dj-tc-2/2027-10-12/
END:VEVENT
BEGIN:VEVENT
DTSTART;TZID=UTC:20271019T170000
DTEND;TZID=UTC:20271019T200000
DTSTAMP:20260421T042609
CREATED:20250403T180227Z
LAST-MODIFIED:20250403T191542Z
UID:10000137-1823965200-1823976000@espos.com
SUMMARY:PATIO BAR OPEN WITH DJ TC
DESCRIPTION:
URL:https://espos.com/eventss/dj-tc-2/2027-10-19/
END:VEVENT
BEGIN:VEVENT
DTSTART;TZID=UTC:20271026T170000
DTEND;TZID=UTC:20271026T200000
DTSTAMP:20260421T042609
CREATED:20250403T180227Z
LAST-MODIFIED:20250403T191542Z
UID:10000138-1824570000-1824580800@espos.com
SUMMARY:PATIO BAR OPEN WITH DJ TC
DESCRIPTION:
URL:https://espos.com/eventss/dj-tc-2/2027-10-26/
END:VEVENT
BEGIN:VEVENT
DTSTART;TZID=UTC:20271102T170000
DTEND;TZID=UTC:20271102T200000
DTSTAMP:20260421T042609
CREATED:20250403T180227Z
LAST-MODIFIED:20250403T191542Z
UID:10000139-1825174800-1825185600@espos.com
SUMMARY:PATIO BAR OPEN WITH DJ TC
DESCRIPTION:
URL:https://espos.com/eventss/dj-tc-2/2027-11-02/
END:VEVENT
BEGIN:VEVENT
DTSTART;TZID=UTC:20271109T170000
DTEND;TZID=UTC:20271109T200000
DTSTAMP:20260421T042609
CREATED:20250403T180227Z
LAST-MODIFIED:20250403T191542Z
UID:10000140-1825779600-1825790400@espos.com
SUMMARY:PATIO BAR OPEN WITH DJ TC
DESCRIPTION:
URL:https://espos.com/eventss/dj-tc-2/2027-11-09/
END:VEVENT
BEGIN:VEVENT
DTSTART;TZID=UTC:20271116T170000
DTEND;TZID=UTC:20271116T200000
DTSTAMP:20260421T042609
CREATED:20250403T180227Z
LAST-MODIFIED:20250403T191542Z
UID:10000141-1826384400-1826395200@espos.com
SUMMARY:PATIO BAR OPEN WITH DJ TC
DESCRIPTION:
URL:https://espos.com/eventss/dj-tc-2/2027-11-16/
END:VEVENT
BEGIN:VEVENT
DTSTART;TZID=UTC:20271123T170000
DTEND;TZID=UTC:20271123T200000
DTSTAMP:20260421T042609
CREATED:20250403T180227Z
LAST-MODIFIED:20250403T191542Z
UID:10000142-1826989200-1827000000@espos.com
SUMMARY:PATIO BAR OPEN WITH DJ TC
DESCRIPTION:
URL:https://espos.com/eventss/dj-tc-2/2027-11-23/
END:VEVENT
BEGIN:VEVENT
DTSTART;TZID=UTC:20271130T170000
DTEND;TZID=UTC:20271130T200000
DTSTAMP:20260421T042609
CREATED:20250403T180227Z
LAST-MODIFIED:20250403T191542Z
UID:10000143-1827594000-1827604800@espos.com
SUMMARY:PATIO BAR OPEN WITH DJ TC
DESCRIPTION:
URL:https://espos.com/eventss/dj-tc-2/2027-11-30/
END:VEVENT
BEGIN:VEVENT
DTSTART;TZID=UTC:20271207T170000
DTEND;TZID=UTC:20271207T200000
DTSTAMP:20260421T042609
CREATED:20250403T180227Z
LAST-MODIFIED:20250403T191542Z
UID:10000144-1828198800-1828209600@espos.com
SUMMARY:PATIO BAR OPEN WITH DJ TC
DESCRIPTION:
URL:https://espos.com/eventss/dj-tc-2/2027-12-07/
END:VEVENT
BEGIN:VEVENT
DTSTART;TZID=UTC:20271214T170000
DTEND;TZID=UTC:20271214T200000
DTSTAMP:20260421T042609
CREATED:20250403T180227Z
LAST-MODIFIED:20250403T191542Z
UID:10000145-1828803600-1828814400@espos.com
SUMMARY:PATIO BAR OPEN WITH DJ TC
DESCRIPTION:
URL:https://espos.com/eventss/dj-tc-2/2027-12-14/
END:VEVENT
BEGIN:VEVENT
DTSTART;TZID=UTC:20271221T170000
DTEND;TZID=UTC:20271221T200000
DTSTAMP:20260421T042609
CREATED:20250403T180227Z
LAST-MODIFIED:20250403T191542Z
UID:10000146-1829408400-1829419200@espos.com
SUMMARY:PATIO BAR OPEN WITH DJ TC
DESCRIPTION:
URL:https://espos.com/eventss/dj-tc-2/2027-12-21/
END:VEVENT
BEGIN:VEVENT
DTSTART;TZID=UTC:20271228T170000
DTEND;TZID=UTC:20271228T200000
DTSTAMP:20260421T042609
CREATED:20250403T180227Z
LAST-MODIFIED:20250403T191542Z
UID:10000147-1830013200-1830024000@espos.com
SUMMARY:PATIO BAR OPEN WITH DJ TC
DESCRIPTION:
URL:https://espos.com/eventss/dj-tc-2/2027-12-28/
END:VEVENT
BEGIN:VEVENT
DTSTART;TZID=UTC:20280104T170000
DTEND;TZID=UTC:20280104T200000
DTSTAMP:20260421T042609
CREATED:20250403T180227Z
LAST-MODIFIED:20250403T191542Z
UID:10000148-1830618000-1830628800@espos.com
SUMMARY:PATIO BAR OPEN WITH DJ TC
DESCRIPTION:
URL:https://espos.com/eventss/dj-tc-2/2028-01-04/
END:VEVENT
BEGIN:VEVENT
DTSTART;TZID=UTC:20280111T170000
DTEND;TZID=UTC:20280111T200000
DTSTAMP:20260421T042609
CREATED:20250403T180227Z
LAST-MODIFIED:20250403T191542Z
UID:10000149-1831222800-1831233600@espos.com
SUMMARY:PATIO BAR OPEN WITH DJ TC
DESCRIPTION:
URL:https://espos.com/eventss/dj-tc-2/2028-01-11/
END:VEVENT
END:VCALENDAR