BEGIN:VCALENDAR
VERSION:2.0
PRODID:-//Espo&#039;s Mexican Food - ECPv6.15.20//NONSGML v1.0//EN
CALSCALE:GREGORIAN
METHOD:PUBLISH
X-WR-CALNAME:Espo&#039;s Mexican Food
X-ORIGINAL-URL:https://espos.com
X-WR-CALDESC:Events for Espo&#039;s Mexican Food
REFRESH-INTERVAL;VALUE=DURATION:PT1H
X-Robots-Tag:noindex
X-PUBLISHED-TTL:PT1H
BEGIN:VTIMEZONE
TZID:UTC
BEGIN:STANDARD
TZOFFSETFROM:+0000
TZOFFSETTO:+0000
TZNAME:UTC
DTSTART:20240101T000000
END:STANDARD
END:VTIMEZONE
BEGIN:VEVENT
DTSTART;TZID=UTC:20250805T170000
DTEND;TZID=UTC:20250805T200000
DTSTAMP:20260421T051511
CREATED:20250403T180227Z
LAST-MODIFIED:20250403T191542Z
UID:10000022-1754413200-1754424000@espos.com
SUMMARY:PATIO BAR OPEN WITH DJ TC
DESCRIPTION:
URL:https://espos.com/eventss/dj-tc-2/2025-08-05/
END:VEVENT
BEGIN:VEVENT
DTSTART;TZID=UTC:20250812T170000
DTEND;TZID=UTC:20250812T200000
DTSTAMP:20260421T051511
CREATED:20250403T180227Z
LAST-MODIFIED:20250403T191542Z
UID:10000023-1755018000-1755028800@espos.com
SUMMARY:PATIO BAR OPEN WITH DJ TC
DESCRIPTION:
URL:https://espos.com/eventss/dj-tc-2/2025-08-12/
END:VEVENT
BEGIN:VEVENT
DTSTART;TZID=UTC:20250819T170000
DTEND;TZID=UTC:20250819T200000
DTSTAMP:20260421T051511
CREATED:20250403T180227Z
LAST-MODIFIED:20250403T191542Z
UID:10000024-1755622800-1755633600@espos.com
SUMMARY:PATIO BAR OPEN WITH DJ TC
DESCRIPTION:
URL:https://espos.com/eventss/dj-tc-2/2025-08-19/
END:VEVENT
BEGIN:VEVENT
DTSTART;TZID=UTC:20250826T170000
DTEND;TZID=UTC:20250826T200000
DTSTAMP:20260421T051511
CREATED:20250403T180227Z
LAST-MODIFIED:20250403T191542Z
UID:10000025-1756227600-1756238400@espos.com
SUMMARY:PATIO BAR OPEN WITH DJ TC
DESCRIPTION:
URL:https://espos.com/eventss/dj-tc-2/2025-08-26/
END:VEVENT
END:VCALENDAR