BEGIN:VCALENDAR
VERSION:2.0
PRODID:-//Espo&#039;s Mexican Food - ECPv6.15.20//NONSGML v1.0//EN
CALSCALE:GREGORIAN
METHOD:PUBLISH
X-ORIGINAL-URL:https://espos.com
X-WR-CALDESC:Events for Espo&#039;s Mexican Food
REFRESH-INTERVAL;VALUE=DURATION:PT1H
X-Robots-Tag:noindex
X-PUBLISHED-TTL:PT1H
BEGIN:VTIMEZONE
TZID:UTC
BEGIN:STANDARD
TZOFFSETFROM:+0000
TZOFFSETTO:+0000
TZNAME:UTC
DTSTART:20260101T000000
END:STANDARD
END:VTIMEZONE
BEGIN:VEVENT
DTSTART;TZID=UTC:20270302T170000
DTEND;TZID=UTC:20270302T200000
DTSTAMP:20260422T012744
CREATED:20250403T180227Z
LAST-MODIFIED:20250403T191542Z
UID:10000104-1804006800-1804017600@espos.com
SUMMARY:PATIO BAR OPEN WITH DJ TC
DESCRIPTION:
URL:https://espos.com/eventss/dj-tc-2/2027-03-02/
END:VEVENT
BEGIN:VEVENT
DTSTART;TZID=UTC:20270309T170000
DTEND;TZID=UTC:20270309T200000
DTSTAMP:20260422T012744
CREATED:20250403T180227Z
LAST-MODIFIED:20250403T191542Z
UID:10000105-1804611600-1804622400@espos.com
SUMMARY:PATIO BAR OPEN WITH DJ TC
DESCRIPTION:
URL:https://espos.com/eventss/dj-tc-2/2027-03-09/
END:VEVENT
BEGIN:VEVENT
DTSTART;TZID=UTC:20270316T170000
DTEND;TZID=UTC:20270316T200000
DTSTAMP:20260422T012744
CREATED:20250403T180227Z
LAST-MODIFIED:20250403T191542Z
UID:10000106-1805216400-1805227200@espos.com
SUMMARY:PATIO BAR OPEN WITH DJ TC
DESCRIPTION:
URL:https://espos.com/eventss/dj-tc-2/2027-03-16/
END:VEVENT
BEGIN:VEVENT
DTSTART;TZID=UTC:20270323T170000
DTEND;TZID=UTC:20270323T200000
DTSTAMP:20260422T012744
CREATED:20250403T180227Z
LAST-MODIFIED:20250403T191542Z
UID:10000107-1805821200-1805832000@espos.com
SUMMARY:PATIO BAR OPEN WITH DJ TC
DESCRIPTION:
URL:https://espos.com/eventss/dj-tc-2/2027-03-23/
END:VEVENT
BEGIN:VEVENT
DTSTART;TZID=UTC:20270330T170000
DTEND;TZID=UTC:20270330T200000
DTSTAMP:20260422T012744
CREATED:20250403T180227Z
LAST-MODIFIED:20250403T191542Z
UID:10000108-1806426000-1806436800@espos.com
SUMMARY:PATIO BAR OPEN WITH DJ TC
DESCRIPTION:
URL:https://espos.com/eventss/dj-tc-2/2027-03-30/
END:VEVENT
END:VCALENDAR